BEGIN:VCALENDAR
VERSION:2.0
PRODID:-//CCFA Nantes - Centre culturel franco-allemand Nantes - ECPv6.15.20//NONSGML v1.0//EN
CALSCALE:GREGORIAN
METHOD:PUBLISH
X-WR-CALNAME:CCFA Nantes - Centre culturel franco-allemand Nantes
X-ORIGINAL-URL:https://www.ccfa-nantes.org
X-WR-CALDESC:Évènements pour CCFA Nantes - Centre culturel franco-allemand Nantes
REFRESH-INTERVAL;VALUE=DURATION:PT1H
X-Robots-Tag:noindex
X-PUBLISHED-TTL:PT1H
BEGIN:VTIMEZONE
TZID:Europe/Paris
BEGIN:DAYLIGHT
TZOFFSETFROM:+0100
TZOFFSETTO:+0200
TZNAME:CEST
DTSTART:20210328T010000
END:DAYLIGHT
BEGIN:STANDARD
TZOFFSETFROM:+0200
TZOFFSETTO:+0100
TZNAME:CET
DTSTART:20211031T010000
END:STANDARD
BEGIN:DAYLIGHT
TZOFFSETFROM:+0100
TZOFFSETTO:+0200
TZNAME:CEST
DTSTART:20220327T010000
END:DAYLIGHT
BEGIN:STANDARD
TZOFFSETFROM:+0200
TZOFFSETTO:+0100
TZNAME:CET
DTSTART:20221030T010000
END:STANDARD
BEGIN:DAYLIGHT
TZOFFSETFROM:+0100
TZOFFSETTO:+0200
TZNAME:CEST
DTSTART:20230326T010000
END:DAYLIGHT
BEGIN:STANDARD
TZOFFSETFROM:+0200
TZOFFSETTO:+0100
TZNAME:CET
DTSTART:20231029T010000
END:STANDARD
END:VTIMEZONE
BEGIN:VEVENT
DTSTART;TZID=Europe/Paris:20220430T100000
DTEND;TZID=Europe/Paris:20220430T140000
DTSTAMP:20260422T132650
CREATED:20220412T110658Z
LAST-MODIFIED:20220412T110743Z
UID:13860-1651312800-1651327200@www.ccfa-nantes.org
SUMMARY:Atelier d'écriture slam franco-allemand
DESCRIPTION:Tu t’intéresses à l’écriture de textes et à un échange avec d’autres participant.e.s dans un contexte franco-allemand ? Tu as envie de faire la connaissance d’un véritable champion de poetry slam ? Alors\, l’atelier d’écriture slam\, c’est pour toi ! \n \nL’atelier aura lieu le 30 avril 2022 de 10h à 14h à Europa Nantes et inclura une pause midi (tu seras invité.e). Théo Lorandel\, Champion de Slam de France 2019\, assurera l’atelier\, ensemble avec Olivia Scheer qui fait partie du CCFA en tant qu’assistante linguistique du DAAD. Ensemble\, ils t’aideront à travailler sur des textes franco-allemands\, en utilisant ta créativité et ta curiosité littéraire. L’atelier sera centré sur l’écriture de textes de slam et musicaux\, mais d’autres formes littéraires sont également les bienvenues. \n\n\n \nTu ne parles pas d’allemand ? Pas de problème\, les seules conditions de participation sont ta curiosité et ton plaisir d’écrire ! \n\n\n \nD’ailleurs\, la participation à l’atelier est libre et gratuite ! \n \nClique ICI pour t’inscrire et ICI pour savoir plus sur cet atelier.
URL:https://www.ccfa-nantes.org/single-agenda/atelier-decriture-slam-franco-allemand/
LOCATION:Europa Nantes
ATTACH;FMTTYPE=image/png:https://www.ccfa-nantes.org/wp-content/uploads/2022/04/Post-Twitter-Workshop.png
END:VEVENT
BEGIN:VEVENT
DTSTART;TZID=Europe/Paris:20220430T193000
DTEND;TZID=Europe/Paris:20220430T220000
DTSTAMP:20260422T132650
CREATED:20220411T163716Z
LAST-MODIFIED:20220411T163716Z
UID:13823-1651347000-1651356000@www.ccfa-nantes.org
SUMMARY:Slam Das\, Slam Ça - Concours de slam franco-allemand
DESCRIPTION:Tu écris des textes et es à la recherche d’une occasion pour les présenter sur scène ? Tu es intéressé.e par la culture et la langue française et/ou allemande ? Nous avons besoin de toi ! \nInscris-toi maintenant en cliquant ICI et participe à la soirée de slam « Slam Das\, Slam Ça – Concours de slam franco-allemand » qui aura lieu le samedi 30 avril 2022 à Europa Nantes.\nPendant cette soirée\, tu auras la possibilité de rencontrer des slameuses et slameurs d’Allemagne et de France\, tout en partageant ta créativité avec eux et le public nantais. Cela te tente de gagner le prix de la soirée ? Présente ton texte en français ou en allemand (durée : à peu près 5 min.) et essaie de convaincre notre jury\, composé des deux slameurs professionnels Julie Kerdellant (collectif Kiezpoeten / Berlin) et Théo Lorandel (collectif Slam Poetry / Nantes) ainsi que le public. \nVous souhaitez faire partie du public ?\nLa soirée est libre et gratuite. Nous assurerons une traduction des textes présentés.\nLa Maison de l’Europe assurera le bar à Europa Nantes. Venez découvrir des spécialités avec ou sans alcool des pays européens ! \nCliquez ICI pour plus d’informations sur la soirée !
URL:https://www.ccfa-nantes.org/single-agenda/slam-das-slam-ca-concours-de-slam-franco-allemand/
LOCATION:Europa Nantes
ATTACH;FMTTYPE=image/png:https://www.ccfa-nantes.org/wp-content/uploads/2022/04/Header-Facebook2.png
END:VEVENT
END:VCALENDAR