BEGIN:VCALENDAR
VERSION:2.0
PRODID:-//CCFA Nantes - Centre culturel franco-allemand Nantes - ECPv6.15.20//NONSGML v1.0//EN
CALSCALE:GREGORIAN
METHOD:PUBLISH
X-ORIGINAL-URL:https://www.ccfa-nantes.org
X-WR-CALDESC:Évènements pour CCFA Nantes - Centre culturel franco-allemand Nantes
REFRESH-INTERVAL;VALUE=DURATION:PT1H
X-Robots-Tag:noindex
X-PUBLISHED-TTL:PT1H
BEGIN:VTIMEZONE
TZID:Europe/Paris
BEGIN:DAYLIGHT
TZOFFSETFROM:+0100
TZOFFSETTO:+0200
TZNAME:CEST
DTSTART:20210328T010000
END:DAYLIGHT
BEGIN:STANDARD
TZOFFSETFROM:+0200
TZOFFSETTO:+0100
TZNAME:CET
DTSTART:20211031T010000
END:STANDARD
BEGIN:DAYLIGHT
TZOFFSETFROM:+0100
TZOFFSETTO:+0200
TZNAME:CEST
DTSTART:20220327T010000
END:DAYLIGHT
BEGIN:STANDARD
TZOFFSETFROM:+0200
TZOFFSETTO:+0100
TZNAME:CET
DTSTART:20221030T010000
END:STANDARD
BEGIN:DAYLIGHT
TZOFFSETFROM:+0100
TZOFFSETTO:+0200
TZNAME:CEST
DTSTART:20230326T010000
END:DAYLIGHT
BEGIN:STANDARD
TZOFFSETFROM:+0200
TZOFFSETTO:+0100
TZNAME:CET
DTSTART:20231029T010000
END:STANDARD
END:VTIMEZONE
BEGIN:VEVENT
DTSTART;TZID=Europe/Paris:20220910T100000
DTEND;TZID=Europe/Paris:20220910T170000
DTSTAMP:20260420T014516
CREATED:20220824T141850Z
LAST-MODIFIED:20220824T154240Z
UID:14173-1662804000-1662829200@www.ccfa-nantes.org
SUMMARY:Journée portes ouvertes du CCFA
DESCRIPTION:Le samedi 10 septembre entre 10h et 17h\, nous vous invitons à rencontrer l’équipe et les bénévoles du CCFA lors de la Journée portes ouvertes des associations européennes d’Europa Nantes ! \nAu programme : \n\nAdhésion annuelle\nInscription aux cours d’allemand\, à la chorale franco-allemande ou au cercle littéraire\nInformation sur les activités culturelles du CCFA et la bibliothèque allemande à Europa Nantes\nRenseignements sur la mobilité vers l’Allemagne et la réouverture de notre bureau des stages\n\nEntre 12h et 14h\, vous pouvez déjeuner sur place et goûter des recettes européennes ! \nAdresse : Europa Nantes\, 90-92 Boulevard de la Prairie au Duc\, 44200 Nantes
URL:https://www.ccfa-nantes.org/single-agenda/journee-portes-ouvertes-du-ccfa/
LOCATION:Europa Nantes
ATTACH;FMTTYPE=image/png:https://www.ccfa-nantes.org/wp-content/uploads/2022/08/Portes-Ouvertes-des-associations-2022-500-×-500-px.png
END:VEVENT
END:VCALENDAR