BEGIN:VCALENDAR
VERSION:2.0
PRODID:-//CCFA Nantes - Centre culturel franco-allemand Nantes - ECPv6.15.20//NONSGML v1.0//EN
CALSCALE:GREGORIAN
METHOD:PUBLISH
X-ORIGINAL-URL:https://www.ccfa-nantes.org
X-WR-CALDESC:Évènements pour CCFA Nantes - Centre culturel franco-allemand Nantes
REFRESH-INTERVAL;VALUE=DURATION:PT1H
X-Robots-Tag:noindex
X-PUBLISHED-TTL:PT1H
BEGIN:VTIMEZONE
TZID:Europe/Paris
BEGIN:DAYLIGHT
TZOFFSETFROM:+0100
TZOFFSETTO:+0200
TZNAME:CEST
DTSTART:20210328T010000
END:DAYLIGHT
BEGIN:STANDARD
TZOFFSETFROM:+0200
TZOFFSETTO:+0100
TZNAME:CET
DTSTART:20211031T010000
END:STANDARD
BEGIN:DAYLIGHT
TZOFFSETFROM:+0100
TZOFFSETTO:+0200
TZNAME:CEST
DTSTART:20220327T010000
END:DAYLIGHT
BEGIN:STANDARD
TZOFFSETFROM:+0200
TZOFFSETTO:+0100
TZNAME:CET
DTSTART:20221030T010000
END:STANDARD
BEGIN:DAYLIGHT
TZOFFSETFROM:+0100
TZOFFSETTO:+0200
TZNAME:CEST
DTSTART:20230326T010000
END:DAYLIGHT
BEGIN:STANDARD
TZOFFSETFROM:+0200
TZOFFSETTO:+0100
TZNAME:CET
DTSTART:20231029T010000
END:STANDARD
END:VTIMEZONE
BEGIN:VEVENT
DTSTART;TZID=Europe/Paris:20221024T133000
DTEND;TZID=Europe/Paris:20221028T123000
DTSTAMP:20260420T001339
CREATED:20220927T201240Z
LAST-MODIFIED:20221026T093657Z
UID:14251-1666618200-1666960200@www.ccfa-nantes.org
SUMMARY:Annulé : Stage intensif pour lycéen.ne.s
DESCRIPTION:Pendant les vacances d’automne\, le CCFA propose un stage intensif d’allemand pour lycéen.ne.s.\nDates :\nLundi 24 octobre : 13h30-16h30\nMardi 25 octobre : 13h30-16h30\nMercredi 26 octobre : 9h30-12h30\nVendredi 28 octobre : 9h30-12h30 \nTarif : 110 € (tarif jeune) + adhésion au CCFA (10 €) \nInscription jusqu’au 18 octobre inclus par mail à ccfanantes@gmail.com. \nAdresse : Europa Nantes\, 90-92 Boulevard de la Prairie au Duc\, 44200 Nantes
URL:https://www.ccfa-nantes.org/single-agenda/stage-intensif-pour-lyceen-ne-s/
LOCATION:Europa Nantes
ATTACH;FMTTYPE=image/png:https://www.ccfa-nantes.org/wp-content/uploads/2022/09/2022-10_Stage-intensif-lyceens_insta-1-e1664309321737.png
END:VEVENT
BEGIN:VEVENT
DTSTART;TZID=Europe/Paris:20221024T190000
DTEND;TZID=Europe/Paris:20221024T203000
DTSTAMP:20260420T001339
CREATED:20221018T154720Z
LAST-MODIFIED:20221018T154720Z
UID:14492-1666638000-1666643400@www.ccfa-nantes.org
SUMMARY:Permanence sur la mobilité vers l'Allemagne
DESCRIPTION:Vous souhaitez faire une mobilité à l’étranger et découvrir l’Allemagne ? Gute Idee ! \nVous avez des questions sur le quotidien de notre pays voisin ? Il vous faudrait un coup de main pour la recherche d’un programme de soutien financier ? Vous souhaitez discuter avec une personne qui a déjà fait une mobilité internationale ? \nAlors inscrivez-vous à notre prochaine permanence sur la mobilité vers l’Allemagne en cliquant ici. \nLa permanence aura lieu le lundi 24 octobre 2022 de 19h à 20h30 au Café Landru\, 7 Rue Lekain\, 44000 Nantes. \nElle sera assurée par Ellen Erdkönig\, Jeune ambassadrice de Sarrebruck à Nantes\, et Eske Ewen\, directrice du CCFA. \nLes permanences sur la mobilité vers l’Allemagne sont organisées par le Centre culturel franco-allemand de Nantes\, en coopération avec ses partenaires.
URL:https://www.ccfa-nantes.org/single-agenda/permanence-sur-la-mobilite-vers-lallemagne-5/
ATTACH;FMTTYPE=image/png:https://www.ccfa-nantes.org/wp-content/uploads/2022/10/2022-10-24_PERMANENCE-Post-instagram-e1666107671102.png
END:VEVENT
END:VCALENDAR