BEGIN:VCALENDAR
VERSION:2.0
PRODID:-//CCFA Nantes - Centre culturel franco-allemand Nantes - ECPv6.15.20//NONSGML v1.0//EN
CALSCALE:GREGORIAN
METHOD:PUBLISH
X-WR-CALNAME:CCFA Nantes - Centre culturel franco-allemand Nantes
X-ORIGINAL-URL:https://www.ccfa-nantes.org
X-WR-CALDESC:Évènements pour CCFA Nantes - Centre culturel franco-allemand Nantes
REFRESH-INTERVAL;VALUE=DURATION:PT1H
X-Robots-Tag:noindex
X-PUBLISHED-TTL:PT1H
BEGIN:VTIMEZONE
TZID:Europe/Paris
BEGIN:DAYLIGHT
TZOFFSETFROM:+0100
TZOFFSETTO:+0200
TZNAME:CEST
DTSTART:20220327T010000
END:DAYLIGHT
BEGIN:STANDARD
TZOFFSETFROM:+0200
TZOFFSETTO:+0100
TZNAME:CET
DTSTART:20221030T010000
END:STANDARD
BEGIN:DAYLIGHT
TZOFFSETFROM:+0100
TZOFFSETTO:+0200
TZNAME:CEST
DTSTART:20230326T010000
END:DAYLIGHT
BEGIN:STANDARD
TZOFFSETFROM:+0200
TZOFFSETTO:+0100
TZNAME:CET
DTSTART:20231029T010000
END:STANDARD
BEGIN:DAYLIGHT
TZOFFSETFROM:+0100
TZOFFSETTO:+0200
TZNAME:CEST
DTSTART:20240331T010000
END:DAYLIGHT
BEGIN:STANDARD
TZOFFSETFROM:+0200
TZOFFSETTO:+0100
TZNAME:CET
DTSTART:20241027T010000
END:STANDARD
END:VTIMEZONE
BEGIN:VEVENT
DTSTART;TZID=Europe/Paris:20230120T180000
DTEND;TZID=Europe/Paris:20230120T200000
DTSTAMP:20260419T210306
CREATED:20230106T141054Z
LAST-MODIFIED:20230118T223621Z
UID:14888-1674237600-1674244800@www.ccfa-nantes.org
SUMMARY:Table Ronde "A deux\, c'est mieux - (Re)découvrir le potentiel franco-allemand"
DESCRIPTION:Vendredi 20 janvier 2023\, 18h-20h\, à Europa Nantes\, 90-92 Boulevard de la Prairie au Duc\, 44200 Nantes. \nÀ l’occasion des 60 ans du traité de l’Élysée\, Nantes Université et le CCFA organisent une table ronde sur l’état actuel des relations franco-allemandes. Les crises géopolitiques de ces dernières années mettent une nouvelle fois ces relations à l’épreuve : les discours médiatiques et politiques évoquent des\nécarts qui se creusent ainsi que l’apparition de divergences profondes.\nFace à ces défis\, cette table ronde se propose de croiser les expériences d’acteurs de différents domaines du franco-allemand afin de (re)découvrir le potentiel de ce tandem historique. À travers des témoignages concrets\, nous souhaitons présenter un éventail d’activités et d’échanges\, tant au niveau politique et économique que dans le domaine de la société civile\, de la culture et de l’éducation. \nA l’issue de la table ronde\, nous vous offrons un verre d’amitié. \nPlus d’informations ICI. \nLa table ronde sera précédée de la remise des prix du concours vidéo « Mon regard sur l’amitié franco-allemande » entre les régions des Pays de la Loire et du Schleswig-Holstein et suivie du concert de Barbara Zimmer à partir de 20h30. \nCliquez ICI pour découvrir la programmation intégrale du CCFA à l’occasion de la Journée franco-allemande 2023.
URL:https://www.ccfa-nantes.org/single-agenda/table-ronde/
LOCATION:Europa Nantes
ATTACH;FMTTYPE=image/png:https://www.ccfa-nantes.org/wp-content/uploads/2023/01/Table-ronde-e1673014225574.png
END:VEVENT
BEGIN:VEVENT
DTSTART;TZID=Europe/Paris:20230120T203000
DTEND;TZID=Europe/Paris:20230120T220000
DTSTAMP:20260419T210306
CREATED:20230104T093736Z
LAST-MODIFIED:20230118T095510Z
UID:14843-1674246600-1674252000@www.ccfa-nantes.org
SUMMARY:Concert Barbara Zimmer
DESCRIPTION:Vendredi 20 janvier 2023\, à 20h30\, à Europa Nantes\, 90 Boulevard de la Prairie au Duc\, 44200 Nantes. \nL’auteure-compositrice-interprète d’origine allemande Barbara Zimmer\, donnera un concert à l’occasion des 60 ans du traité de l’Élysée. Découvrez en plus ICI. \nVenez nombreux pour découvrir l’univers musical de cette chanteuse talentueuse ! \nCliquez ICI pour découvrir la programmation intégrale du CCFA à l’occasion de la Journée franco-allemande 2023.
URL:https://www.ccfa-nantes.org/single-agenda/concert-barbara-zimmer/
LOCATION:Europa Nantes
ATTACH;FMTTYPE=image/png:https://www.ccfa-nantes.org/wp-content/uploads/2023/01/Barbara-Zimmer-Publi-siteInsta-e1673012236424.png
END:VEVENT
END:VCALENDAR