BEGIN:VCALENDAR
VERSION:2.0
PRODID:-//CCFA Nantes - Centre culturel franco-allemand Nantes - ECPv6.15.20//NONSGML v1.0//EN
CALSCALE:GREGORIAN
METHOD:PUBLISH
X-WR-CALNAME:CCFA Nantes - Centre culturel franco-allemand Nantes
X-ORIGINAL-URL:https://www.ccfa-nantes.org
X-WR-CALDESC:Évènements pour CCFA Nantes - Centre culturel franco-allemand Nantes
REFRESH-INTERVAL;VALUE=DURATION:PT1H
X-Robots-Tag:noindex
X-PUBLISHED-TTL:PT1H
BEGIN:VTIMEZONE
TZID:Europe/Paris
BEGIN:DAYLIGHT
TZOFFSETFROM:+0100
TZOFFSETTO:+0200
TZNAME:CEST
DTSTART:20220327T010000
END:DAYLIGHT
BEGIN:STANDARD
TZOFFSETFROM:+0200
TZOFFSETTO:+0100
TZNAME:CET
DTSTART:20221030T010000
END:STANDARD
BEGIN:DAYLIGHT
TZOFFSETFROM:+0100
TZOFFSETTO:+0200
TZNAME:CEST
DTSTART:20230326T010000
END:DAYLIGHT
BEGIN:STANDARD
TZOFFSETFROM:+0200
TZOFFSETTO:+0100
TZNAME:CET
DTSTART:20231029T010000
END:STANDARD
BEGIN:DAYLIGHT
TZOFFSETFROM:+0100
TZOFFSETTO:+0200
TZNAME:CEST
DTSTART:20240331T010000
END:DAYLIGHT
BEGIN:STANDARD
TZOFFSETFROM:+0200
TZOFFSETTO:+0100
TZNAME:CET
DTSTART:20241027T010000
END:STANDARD
END:VTIMEZONE
BEGIN:VEVENT
DTSTART;TZID=Europe/Paris:20230121T160000
DTEND;TZID=Europe/Paris:20230121T180000
DTSTAMP:20260419T210300
CREATED:20230106T100309Z
LAST-MODIFIED:20230118T095532Z
UID:14878-1674316800-1674324000@www.ccfa-nantes.org
SUMMARY:Kindernachmittag
DESCRIPTION:21 janvier 2023\, 16h\, Europa Nantes (90-92 Boulevard de la Prairie au Duc\, 44200 Nantes)\, Salle Agora\nLe CCFA et la crèche franco-allemande Hänsel & Gretel organisent à l’occasion des 60 ans du traité de l’Elysée et de l’amitié franco-allemande un « Kindernachmittag » ensemble ! Au programme : des jeux et à l’occasion de la journée franco-allemande et de la lecture pour les tout-petits. \nInscription ICI. \nCliquez ICI pour découvrir la programmation intégrale du CCFA à l’occasion de la Journée franco-allemande 2023.
URL:https://www.ccfa-nantes.org/single-agenda/kindernachmittag-17/
LOCATION:Europa Nantes
ATTACH;FMTTYPE=image/png:https://www.ccfa-nantes.org/wp-content/uploads/2023/01/Kindernachmittag230121-e1672999358860.png
END:VEVENT
END:VCALENDAR