BEGIN:VCALENDAR
VERSION:2.0
PRODID:-//CCFA Nantes - Centre culturel franco-allemand Nantes - ECPv6.15.20//NONSGML v1.0//EN
CALSCALE:GREGORIAN
METHOD:PUBLISH
X-WR-CALNAME:CCFA Nantes - Centre culturel franco-allemand Nantes
X-ORIGINAL-URL:https://www.ccfa-nantes.org
X-WR-CALDESC:Évènements pour CCFA Nantes - Centre culturel franco-allemand Nantes
REFRESH-INTERVAL;VALUE=DURATION:PT1H
X-Robots-Tag:noindex
X-PUBLISHED-TTL:PT1H
BEGIN:VTIMEZONE
TZID:Europe/Paris
BEGIN:DAYLIGHT
TZOFFSETFROM:+0100
TZOFFSETTO:+0200
TZNAME:CEST
DTSTART:20220327T010000
END:DAYLIGHT
BEGIN:STANDARD
TZOFFSETFROM:+0200
TZOFFSETTO:+0100
TZNAME:CET
DTSTART:20221030T010000
END:STANDARD
BEGIN:DAYLIGHT
TZOFFSETFROM:+0100
TZOFFSETTO:+0200
TZNAME:CEST
DTSTART:20230326T010000
END:DAYLIGHT
BEGIN:STANDARD
TZOFFSETFROM:+0200
TZOFFSETTO:+0100
TZNAME:CET
DTSTART:20231029T010000
END:STANDARD
BEGIN:DAYLIGHT
TZOFFSETFROM:+0100
TZOFFSETTO:+0200
TZNAME:CEST
DTSTART:20240331T010000
END:DAYLIGHT
BEGIN:STANDARD
TZOFFSETFROM:+0200
TZOFFSETTO:+0100
TZNAME:CET
DTSTART:20241027T010000
END:STANDARD
END:VTIMEZONE
BEGIN:VEVENT
DTSTART;TZID=Europe/Paris:20230131T183000
DTEND;TZID=Europe/Paris:20230131T200000
DTSTAMP:20260419T210326
CREATED:20230118T103138Z
LAST-MODIFIED:20230124T221411Z
UID:15117-1675189800-1675195200@www.ccfa-nantes.org
SUMMARY:REPORTÉ : Dokulive "60 ans du Traité de l'Élysée"
DESCRIPTION:Le Dokulive ne pourra finalement pas avoir lieu le 31 janvier\, mais sera reporté. \nSi vous souhaitez être informé.e de la nouvelle date\, merci de nous prévenir par mail : ccfa.volo.communication@gmail.com. Elle apparaîtra également sur notre site Internet. \nMardi 31 janvier\, 18h30\, à Europa Nantes\, 90-92 Bd de la Prairie au Duc\, 44200 Nantes. \nLe 22 janvier 1963 est une date importante pour les relations franco-allemandes et la construction de l’Europe d’aujourd’hui. Cette année\, nous célébrons les 60 ans du Traité de l’Élysée que Konrad Adenauer et Charles de Gaulle ont signé en 1963. \nLe politologue Ingo Espenscheid nous ramène avec sa production « Dokulive » à un passionnant voyage dans le temps à travers des événements qui ont marqué les relations franco-allemandes. \nEntrée libre et gratuite. Le « Dokulive » sera présenté en français. \nPlus d’infos ICI. \nCliquez ICI pour découvrir la programmation intégrale du CCFA à l’occasion de la Journée franco-allemande 2023.
URL:https://www.ccfa-nantes.org/single-agenda/dokulive-le-traite-de-lelysee/
ATTACH;FMTTYPE=image/jpeg:https://www.ccfa-nantes.org/wp-content/uploads/2023/01/Titelbild_DOKULIVE_60-Jahre-Elysee-Vertrag-scaled-e1674039041474.jpg
END:VEVENT
END:VCALENDAR