BEGIN:VCALENDAR
VERSION:2.0
PRODID:-//CCFA Nantes - Centre culturel franco-allemand Nantes - ECPv6.15.20//NONSGML v1.0//EN
CALSCALE:GREGORIAN
METHOD:PUBLISH
X-ORIGINAL-URL:https://www.ccfa-nantes.org
X-WR-CALDESC:Évènements pour CCFA Nantes - Centre culturel franco-allemand Nantes
REFRESH-INTERVAL;VALUE=DURATION:PT1H
X-Robots-Tag:noindex
X-PUBLISHED-TTL:PT1H
BEGIN:VTIMEZONE
TZID:Europe/Paris
BEGIN:DAYLIGHT
TZOFFSETFROM:+0100
TZOFFSETTO:+0200
TZNAME:CEST
DTSTART:20220327T010000
END:DAYLIGHT
BEGIN:STANDARD
TZOFFSETFROM:+0200
TZOFFSETTO:+0100
TZNAME:CET
DTSTART:20221030T010000
END:STANDARD
BEGIN:DAYLIGHT
TZOFFSETFROM:+0100
TZOFFSETTO:+0200
TZNAME:CEST
DTSTART:20230326T010000
END:DAYLIGHT
BEGIN:STANDARD
TZOFFSETFROM:+0200
TZOFFSETTO:+0100
TZNAME:CET
DTSTART:20231029T010000
END:STANDARD
BEGIN:DAYLIGHT
TZOFFSETFROM:+0100
TZOFFSETTO:+0200
TZNAME:CEST
DTSTART:20240331T010000
END:DAYLIGHT
BEGIN:STANDARD
TZOFFSETFROM:+0200
TZOFFSETTO:+0100
TZNAME:CET
DTSTART:20241027T010000
END:STANDARD
END:VTIMEZONE
BEGIN:VEVENT
DTSTART;TZID=Europe/Paris:20230401T160000
DTEND;TZID=Europe/Paris:20230401T180000
DTSTAMP:20260420T005754
CREATED:20230222T144120Z
LAST-MODIFIED:20230307T111802Z
UID:15508-1680364800-1680372000@www.ccfa-nantes.org
SUMMARY:Kindernachmittag
DESCRIPTION:Samedi 1 er avril 2023\, de 16h à 18h\, Maison des associations de Saint Joseph\, salle A\, 478 Route de Saint Joseph\, 44300 Nantes. \nLe CCFA et la Crèche franco-allemande Hänsel & Gretel organisent leur prochain « Kindernachmittag » ! Au programme\, peindre des oeuf et confectionner des objets à l’occasion de Pâques. \nInscription ICI. 
URL:https://www.ccfa-nantes.org/single-agenda/kindernachmittag-18/
LOCATION:Maison des Associations\, 478 Route de Saint Joseph\, Nantes
ATTACH;FMTTYPE=image/png:https://www.ccfa-nantes.org/wp-content/uploads/2023/02/Kindernachmittag-01042023-e1677754390714.png
END:VEVENT
END:VCALENDAR