BEGIN:VCALENDAR
VERSION:2.0
PRODID:-//CCFA Nantes - Centre culturel franco-allemand Nantes - ECPv6.15.20//NONSGML v1.0//EN
CALSCALE:GREGORIAN
METHOD:PUBLISH
X-WR-CALNAME:CCFA Nantes - Centre culturel franco-allemand Nantes
X-ORIGINAL-URL:https://www.ccfa-nantes.org
X-WR-CALDESC:Évènements pour CCFA Nantes - Centre culturel franco-allemand Nantes
REFRESH-INTERVAL;VALUE=DURATION:PT1H
X-Robots-Tag:noindex
X-PUBLISHED-TTL:PT1H
BEGIN:VTIMEZONE
TZID:Europe/Paris
BEGIN:DAYLIGHT
TZOFFSETFROM:+0100
TZOFFSETTO:+0200
TZNAME:CEST
DTSTART:20220327T010000
END:DAYLIGHT
BEGIN:STANDARD
TZOFFSETFROM:+0200
TZOFFSETTO:+0100
TZNAME:CET
DTSTART:20221030T010000
END:STANDARD
BEGIN:DAYLIGHT
TZOFFSETFROM:+0100
TZOFFSETTO:+0200
TZNAME:CEST
DTSTART:20230326T010000
END:DAYLIGHT
BEGIN:STANDARD
TZOFFSETFROM:+0200
TZOFFSETTO:+0100
TZNAME:CET
DTSTART:20231029T010000
END:STANDARD
BEGIN:DAYLIGHT
TZOFFSETFROM:+0100
TZOFFSETTO:+0200
TZNAME:CEST
DTSTART:20240331T010000
END:DAYLIGHT
BEGIN:STANDARD
TZOFFSETFROM:+0200
TZOFFSETTO:+0100
TZNAME:CET
DTSTART:20241027T010000
END:STANDARD
END:VTIMEZONE
BEGIN:VEVENT
DTSTART;TZID=Europe/Paris:20230412T183000
DTEND;TZID=Europe/Paris:20230412T200000
DTSTAMP:20260420T040014
CREATED:20230403T072844Z
LAST-MODIFIED:20230403T130543Z
UID:15760-1681324200-1681329600@www.ccfa-nantes.org
SUMMARY:Soirée théâtre franco-allemande
DESCRIPTION:Mercredi 12 avril 2023\, 18h30\, Lycée Nelson Mandela\, salle 201\, 10 Rue Pierre Vidal-Naquet\, 44265 Nantes\n\nDans le cadre d’un atelier de co-création théâtrale en langue allemande animé par Karsten Forbrig (CCFA) et Émilie Barbier\, les élèves de la section AbiBac du Lycée Nelson Mandela ont exploré le roman d’Olivia Wenzel 1000 Serpentinen Angst et proposent lors de cette restitution d’atelier une adaptation théâtrale « condensée ». \nEntrée libre et gratuite.
URL:https://www.ccfa-nantes.org/single-agenda/soiree-theatre-franco-allemande/
LOCATION:Lycée Nelson Mandela\, 10 Rue Pierre Vidal-Naquet\, Nantes\, 44265\, France
ATTACH;FMTTYPE=image/png:https://www.ccfa-nantes.org/wp-content/uploads/2023/04/Soiree-theatre-Publication-Instagram-Carre-e1680506782204.png
END:VEVENT
END:VCALENDAR