BEGIN:VCALENDAR
VERSION:2.0
PRODID:-//CCFA Nantes - Centre culturel franco-allemand Nantes - ECPv6.15.20//NONSGML v1.0//EN
CALSCALE:GREGORIAN
METHOD:PUBLISH
X-ORIGINAL-URL:https://www.ccfa-nantes.org
X-WR-CALDESC:Évènements pour CCFA Nantes - Centre culturel franco-allemand Nantes
REFRESH-INTERVAL;VALUE=DURATION:PT1H
X-Robots-Tag:noindex
X-PUBLISHED-TTL:PT1H
BEGIN:VTIMEZONE
TZID:Europe/Paris
BEGIN:DAYLIGHT
TZOFFSETFROM:+0100
TZOFFSETTO:+0200
TZNAME:CEST
DTSTART:20220327T010000
END:DAYLIGHT
BEGIN:STANDARD
TZOFFSETFROM:+0200
TZOFFSETTO:+0100
TZNAME:CET
DTSTART:20221030T010000
END:STANDARD
BEGIN:DAYLIGHT
TZOFFSETFROM:+0100
TZOFFSETTO:+0200
TZNAME:CEST
DTSTART:20230326T010000
END:DAYLIGHT
BEGIN:STANDARD
TZOFFSETFROM:+0200
TZOFFSETTO:+0100
TZNAME:CET
DTSTART:20231029T010000
END:STANDARD
BEGIN:DAYLIGHT
TZOFFSETFROM:+0100
TZOFFSETTO:+0200
TZNAME:CEST
DTSTART:20240331T010000
END:DAYLIGHT
BEGIN:STANDARD
TZOFFSETFROM:+0200
TZOFFSETTO:+0100
TZNAME:CET
DTSTART:20241027T010000
END:STANDARD
END:VTIMEZONE
BEGIN:VEVENT
DTSTART;TZID=Europe/Paris:20230509T180000
DTEND;TZID=Europe/Paris:20230509T200000
DTSTAMP:20260420T052855
CREATED:20230505T104905Z
LAST-MODIFIED:20230505T104905Z
UID:16103-1683655200-1683662400@www.ccfa-nantes.org
SUMMARY:Soirée d'ouverture du mois de l'Europe
DESCRIPTION:Mardi 9 mai 2023\, à 18h\, à Europa Nantes\, 90-92 boulevard de la Prairie au Duc\, 44200 Nantes \nSoirée d’ouverture du mois de l’Europe\, Europa Nantes (90-92 Bd de la Prairie au Duc\, 44200 Nantes)\nVenez rencontrer les différentes associations européennes de Nantes dans un cadre festif !
URL:https://www.ccfa-nantes.org/single-agenda/soiree-douverture-du-mois-de-leurope/
LOCATION:Europa Nantes
END:VEVENT
END:VCALENDAR