BEGIN:VCALENDAR
VERSION:2.0
PRODID:-//CCFA Nantes - Centre culturel franco-allemand Nantes - ECPv6.15.20//NONSGML v1.0//EN
CALSCALE:GREGORIAN
METHOD:PUBLISH
X-ORIGINAL-URL:https://www.ccfa-nantes.org
X-WR-CALDESC:Évènements pour CCFA Nantes - Centre culturel franco-allemand Nantes
REFRESH-INTERVAL;VALUE=DURATION:PT1H
X-Robots-Tag:noindex
X-PUBLISHED-TTL:PT1H
BEGIN:VTIMEZONE
TZID:Europe/Paris
BEGIN:DAYLIGHT
TZOFFSETFROM:+0100
TZOFFSETTO:+0200
TZNAME:CEST
DTSTART:20220327T010000
END:DAYLIGHT
BEGIN:STANDARD
TZOFFSETFROM:+0200
TZOFFSETTO:+0100
TZNAME:CET
DTSTART:20221030T010000
END:STANDARD
BEGIN:DAYLIGHT
TZOFFSETFROM:+0100
TZOFFSETTO:+0200
TZNAME:CEST
DTSTART:20230326T010000
END:DAYLIGHT
BEGIN:STANDARD
TZOFFSETFROM:+0200
TZOFFSETTO:+0100
TZNAME:CET
DTSTART:20231029T010000
END:STANDARD
BEGIN:DAYLIGHT
TZOFFSETFROM:+0100
TZOFFSETTO:+0200
TZNAME:CEST
DTSTART:20240331T010000
END:DAYLIGHT
BEGIN:STANDARD
TZOFFSETFROM:+0200
TZOFFSETTO:+0100
TZNAME:CET
DTSTART:20241027T010000
END:STANDARD
END:VTIMEZONE
BEGIN:VEVENT
DTSTART;TZID=Europe/Paris:20230516T180000
DTEND;TZID=Europe/Paris:20230516T200000
DTSTAMP:20260420T052845
CREATED:20230512T140813Z
LAST-MODIFIED:20230512T141729Z
UID:16127-1684260000-1684267200@www.ccfa-nantes.org
SUMMARY:Balade européenne
DESCRIPTION:Mardi 16 mai 2023\, 18h-20h\, Quartier Saint-Félix\, Nantes \nDans le cadre des balades proposées pour la fête de l’Europe en collaboration avec La Maison de l’Europe\, les Hérons vous invitent à suivre Ellen (Allemagne) qui nous fera découvrir « son » Nantes.\n\nSuivez-nous pour une balade découverte « du » Nantes de Ellen\, entre petites et grandes histoires franco-allemandeS !\n• Sur réservation au 06 79 07 58 34 ou bonjour.lesherons@gmail.com\n• Prix libre\n• Info rdv envoyées par SMS ou mail après réservation\n\nPlus d’infos ICI.
URL:https://www.ccfa-nantes.org/single-agenda/balade-europeenne/
LOCATION:Quartier Saint-Félix\, Saint-Félix\, Nantes
ATTACH;FMTTYPE=image/png:https://www.ccfa-nantes.org/wp-content/uploads/2023/05/BALADE-EUROPEENNE-e1683901120286.png
END:VEVENT
END:VCALENDAR