BEGIN:VCALENDAR
VERSION:2.0
PRODID:-//CCFA Nantes - Centre culturel franco-allemand Nantes - ECPv6.15.20//NONSGML v1.0//EN
CALSCALE:GREGORIAN
METHOD:PUBLISH
X-ORIGINAL-URL:https://www.ccfa-nantes.org
X-WR-CALDESC:Évènements pour CCFA Nantes - Centre culturel franco-allemand Nantes
REFRESH-INTERVAL;VALUE=DURATION:PT1H
X-Robots-Tag:noindex
X-PUBLISHED-TTL:PT1H
BEGIN:VTIMEZONE
TZID:Europe/Paris
BEGIN:DAYLIGHT
TZOFFSETFROM:+0100
TZOFFSETTO:+0200
TZNAME:CEST
DTSTART:20220327T010000
END:DAYLIGHT
BEGIN:STANDARD
TZOFFSETFROM:+0200
TZOFFSETTO:+0100
TZNAME:CET
DTSTART:20221030T010000
END:STANDARD
BEGIN:DAYLIGHT
TZOFFSETFROM:+0100
TZOFFSETTO:+0200
TZNAME:CEST
DTSTART:20230326T010000
END:DAYLIGHT
BEGIN:STANDARD
TZOFFSETFROM:+0200
TZOFFSETTO:+0100
TZNAME:CET
DTSTART:20231029T010000
END:STANDARD
BEGIN:DAYLIGHT
TZOFFSETFROM:+0100
TZOFFSETTO:+0200
TZNAME:CEST
DTSTART:20240331T010000
END:DAYLIGHT
BEGIN:STANDARD
TZOFFSETFROM:+0200
TZOFFSETTO:+0100
TZNAME:CET
DTSTART:20241027T010000
END:STANDARD
END:VTIMEZONE
BEGIN:VEVENT
DTSTART;TZID=Europe/Paris:20230523T180000
DTEND;TZID=Europe/Paris:20230523T210000
DTSTAMP:20260420T052858
CREATED:20230104T095838Z
LAST-MODIFIED:20230522T095422Z
UID:14848-1684864800-1684875600@www.ccfa-nantes.org
SUMMARY:ANNULÉ : Atelier jeunes "Lab'Chat"
DESCRIPTION:Le « Lab’Chat » ne pourra finalement pas avoir lieu le 23 mai\, faute d’inscriptions. Il sera adapté et proposé de nouveau. Restez connecté.es pour bientôt plus d’informations ! \nMardi 23 mai 2023\, de 18h à 21h\, à Europa Nantes\, 90 Boulevard de la Prairie au Duc\, 44200 Nantes. \n\nLe 9 mai\, qui célèbre la Fête de l’Europe\, approche à grand pas ! \n\n\n\nÀ cette occasion\, le CCFA et la Maison de l’Europe souhaitent mettre en avant le regard des jeunes sur les coopérations franco-allemandes et vous interroger sur votre envie de participer\, voire aider à organiser un projet d’échange avec un partenaire en Allemagne. \nTu as envie de faire la connaissance des jeunes du pays voisin ? Tu as envie d’apprendre les grandes lignes concernant l’organisation d’un projet international\, par exemple un échange franco-allemand ? Nous serions ravi.es de te rencontrer et d’échanger avec toi sur tes idées ! \nInscription au « Lab’Chat » ICI merci de vous inscrire avant le 17 mai.Plus d’informations ICI.   \n\nLa soirée sera accompagnée d’un buffet !
URL:https://www.ccfa-nantes.org/single-agenda/labchat/
LOCATION:Europa Nantes
ATTACH;FMTTYPE=image/png:https://www.ccfa-nantes.org/wp-content/uploads/2023/01/Lab-Chat-1-1-e1681394135636.png
END:VEVENT
END:VCALENDAR