BEGIN:VCALENDAR
VERSION:2.0
PRODID:-//CCFA Nantes - Centre culturel franco-allemand Nantes - ECPv6.15.20//NONSGML v1.0//EN
CALSCALE:GREGORIAN
METHOD:PUBLISH
X-WR-CALNAME:CCFA Nantes - Centre culturel franco-allemand Nantes
X-ORIGINAL-URL:https://www.ccfa-nantes.org
X-WR-CALDESC:Évènements pour CCFA Nantes - Centre culturel franco-allemand Nantes
REFRESH-INTERVAL;VALUE=DURATION:PT1H
X-Robots-Tag:noindex
X-PUBLISHED-TTL:PT1H
BEGIN:VTIMEZONE
TZID:Europe/Paris
BEGIN:DAYLIGHT
TZOFFSETFROM:+0100
TZOFFSETTO:+0200
TZNAME:CEST
DTSTART:20220327T010000
END:DAYLIGHT
BEGIN:STANDARD
TZOFFSETFROM:+0200
TZOFFSETTO:+0100
TZNAME:CET
DTSTART:20221030T010000
END:STANDARD
BEGIN:DAYLIGHT
TZOFFSETFROM:+0100
TZOFFSETTO:+0200
TZNAME:CEST
DTSTART:20230326T010000
END:DAYLIGHT
BEGIN:STANDARD
TZOFFSETFROM:+0200
TZOFFSETTO:+0100
TZNAME:CET
DTSTART:20231029T010000
END:STANDARD
BEGIN:DAYLIGHT
TZOFFSETFROM:+0100
TZOFFSETTO:+0200
TZNAME:CEST
DTSTART:20240331T010000
END:DAYLIGHT
BEGIN:STANDARD
TZOFFSETFROM:+0200
TZOFFSETTO:+0100
TZNAME:CET
DTSTART:20241027T010000
END:STANDARD
END:VTIMEZONE
BEGIN:VEVENT
DTSTART;TZID=Europe/Paris:20230527T120000
DTEND;TZID=Europe/Paris:20230527T143000
DTSTAMP:20260424T113237
CREATED:20230505T110358Z
LAST-MODIFIED:20230505T110358Z
UID:16105-1685188800-1685197800@www.ccfa-nantes.org
SUMMARY:Brunch européen participatif
DESCRIPTION:Samedi 27 mai 2023\, de 12h à 14h30\, à Europa Nantes\, 90-92 Boulevard de la Prairie au Duc\, 44200 Nantes. \nBrunch européen participatif\, Europa Nantes (90-92 Bd de la Prairie au Duc\, 44200 Nantes)\nEnvie de découvrir ou faire découvrir des mets européens ? Participez à notre brunch collaboratif et emmenez des spécialités européennes à partager ! Sur inscription.\nOrganisation : Maison de l’Europe\, CCFA et d’autres partenaires.
URL:https://www.ccfa-nantes.org/single-agenda/brunch-europeen-participatif/
LOCATION:Europa Nantes
END:VEVENT
END:VCALENDAR