BEGIN:VCALENDAR
VERSION:2.0
PRODID:-//CCFA Nantes - Centre culturel franco-allemand Nantes - ECPv6.15.20//NONSGML v1.0//EN
CALSCALE:GREGORIAN
METHOD:PUBLISH
X-WR-CALNAME:CCFA Nantes - Centre culturel franco-allemand Nantes
X-ORIGINAL-URL:https://www.ccfa-nantes.org
X-WR-CALDESC:Évènements pour CCFA Nantes - Centre culturel franco-allemand Nantes
REFRESH-INTERVAL;VALUE=DURATION:PT1H
X-Robots-Tag:noindex
X-PUBLISHED-TTL:PT1H
BEGIN:VTIMEZONE
TZID:Europe/Paris
BEGIN:DAYLIGHT
TZOFFSETFROM:+0100
TZOFFSETTO:+0200
TZNAME:CEST
DTSTART:20220327T010000
END:DAYLIGHT
BEGIN:STANDARD
TZOFFSETFROM:+0200
TZOFFSETTO:+0100
TZNAME:CET
DTSTART:20221030T010000
END:STANDARD
BEGIN:DAYLIGHT
TZOFFSETFROM:+0100
TZOFFSETTO:+0200
TZNAME:CEST
DTSTART:20230326T010000
END:DAYLIGHT
BEGIN:STANDARD
TZOFFSETFROM:+0200
TZOFFSETTO:+0100
TZNAME:CET
DTSTART:20231029T010000
END:STANDARD
BEGIN:DAYLIGHT
TZOFFSETFROM:+0100
TZOFFSETTO:+0200
TZNAME:CEST
DTSTART:20240331T010000
END:DAYLIGHT
BEGIN:STANDARD
TZOFFSETFROM:+0200
TZOFFSETTO:+0100
TZNAME:CET
DTSTART:20241027T010000
END:STANDARD
END:VTIMEZONE
BEGIN:VEVENT
DTSTART;TZID=Europe/Paris:20230601T190000
DTEND;TZID=Europe/Paris:20230601T210000
DTSTAMP:20260420T052524
CREATED:20230505T151349Z
LAST-MODIFIED:20230601T132951Z
UID:16110-1685646000-1685653200@www.ccfa-nantes.org
SUMMARY:Stammtisch
DESCRIPTION:Vous souhaitez pratiquer l’allemand dans un cadre ludique et décontracté ? Venez au prochain Stammtisch du CCFA ! Peu importe votre niveau d’allemand – vous serez toutes et tous les bienvenu.es. \nVenez à notre rencontre et discuter avec nous ! \nJeudi 1 juin 2023\, 19h\, bar-librairie La Flibuste (6 allée Susan Brownell Anthony\, 44200 Nantes)
URL:https://www.ccfa-nantes.org/single-agenda/stammtisch-24/
LOCATION:La Flibuste\, 6 allée Susan Brownell Anthony\, Nantes\, 44200\, France
ATTACH;FMTTYPE=image/png:https://www.ccfa-nantes.org/wp-content/uploads/2023/05/STAMMTISCH-Publication-Instagram-Carre-3-e1683299619505.png
END:VEVENT
END:VCALENDAR