BEGIN:VCALENDAR
VERSION:2.0
PRODID:-//CCFA Nantes - Centre culturel franco-allemand Nantes - ECPv6.15.20//NONSGML v1.0//EN
CALSCALE:GREGORIAN
METHOD:PUBLISH
X-WR-CALNAME:CCFA Nantes - Centre culturel franco-allemand Nantes
X-ORIGINAL-URL:https://www.ccfa-nantes.org
X-WR-CALDESC:Évènements pour CCFA Nantes - Centre culturel franco-allemand Nantes
REFRESH-INTERVAL;VALUE=DURATION:PT1H
X-Robots-Tag:noindex
X-PUBLISHED-TTL:PT1H
BEGIN:VTIMEZONE
TZID:Europe/Paris
BEGIN:DAYLIGHT
TZOFFSETFROM:+0100
TZOFFSETTO:+0200
TZNAME:CEST
DTSTART:20250330T010000
END:DAYLIGHT
BEGIN:STANDARD
TZOFFSETFROM:+0200
TZOFFSETTO:+0100
TZNAME:CET
DTSTART:20251026T010000
END:STANDARD
BEGIN:DAYLIGHT
TZOFFSETFROM:+0100
TZOFFSETTO:+0200
TZNAME:CEST
DTSTART:20260329T010000
END:DAYLIGHT
BEGIN:STANDARD
TZOFFSETFROM:+0200
TZOFFSETTO:+0100
TZNAME:CET
DTSTART:20261025T010000
END:STANDARD
BEGIN:DAYLIGHT
TZOFFSETFROM:+0100
TZOFFSETTO:+0200
TZNAME:CEST
DTSTART:20270328T010000
END:DAYLIGHT
BEGIN:STANDARD
TZOFFSETFROM:+0200
TZOFFSETTO:+0100
TZNAME:CET
DTSTART:20271031T010000
END:STANDARD
END:VTIMEZONE
BEGIN:VEVENT
DTSTART;VALUE=DATE:20260325
DTEND;VALUE=DATE:20260507
DTSTAMP:20260424T152954
CREATED:20260323T100515Z
LAST-MODIFIED:20260323T100650Z
UID:23091-1774396800-1778111999@www.ccfa-nantes.org
SUMMARY:Euro'clap!
DESCRIPTION:Euro’clap ! est un appel lancé aux jeunes créateur-ices de ans pour réaliser un court-métrage en un mois autour d’un thème librement inspiré de l’Europe !\nLe début du défi commence le mercredi 25 mars par une soirée de lancement à la Maison de l’Europe où les participants pourront se rencontrer\, former leurs groupes\, participer à différentes activités ludiques liées à l’Europe. Les participants disposent d’un mois pour écrire\, réaliser\, tourner un court-métrage qu’ils devront impérativement remettre avant le lundi 20 avril à 15h30 ! \n4 thèmes au choix :\n– Europe et environnement\n– Unie dans la diversité\n– Europe et Désinformation\n– Égalité Femme-Homme en Europe \nUne soirée de projection sera organisée le mercredi mai lors de la fête de l’Europe ! Les participants pourront voir leurs courts métrages projetés\, participer à un buffet offert et rencontrer des professionnels ! \nVous trouverez ici le lien du questionnaire à remplir pour votre inscription (gratuite) :\nhttps://framaforms.org/euroclap-1772549688
URL:https://www.ccfa-nantes.org/single-agenda/euroclap/
LOCATION:Europa Nantes
END:VEVENT
BEGIN:VEVENT
DTSTART;TZID=Europe/Paris:20260505T183000
DTEND;TZID=Europe/Paris:20260505T203000
DTSTAMP:20260424T152954
CREATED:20260423T083646Z
LAST-MODIFIED:20260423T083646Z
UID:23191-1778005800-1778013000@www.ccfa-nantes.org
SUMMARY:Soirée des Courts Métrages Européens
DESCRIPTION:La Soirée de Courts Métrages Européens est organisée par le CCFA et Univerciné Nantes\, en partenariat avec le cinéma Katorza et avec le soutien de l’OFAG\, de la Maison de l’Europe\, de Nantes Métropole et de la Ville de Nantes. Elle propose une immersion dans la diversité des cinémas européens à travers une programmation engagée\, centrée sur des récits contemporains aux thématiques humaines\, sociales et culturelles. \nL’événement se tiendra le 5 mai 2026 à 18h30 au cinéma Katorza à Nantes. Cette soirée a pour objectif de mettre en lumière des regards européens variés\, en donnant à voir des histoires intimes et collectives issues de plusieurs pays\, et en invitant le public à une réflexion autour des enjeux actuels du continent. \nProgramme de la soirée
URL:https://www.ccfa-nantes.org/single-agenda/soiree-des-courts-metrages-europeens-2/
LOCATION:Cinema Katorza\, 3\, rue Corneille\, Nantes\, 44000\, France
END:VEVENT
END:VCALENDAR