BEGIN:VCALENDAR
VERSION:2.0
PRODID:-//CCFA Nantes - Centre culturel franco-allemand Nantes - ECPv6.15.20//NONSGML v1.0//EN
CALSCALE:GREGORIAN
METHOD:PUBLISH
X-WR-CALNAME:CCFA Nantes - Centre culturel franco-allemand Nantes
X-ORIGINAL-URL:https://www.ccfa-nantes.org
X-WR-CALDESC:Évènements pour CCFA Nantes - Centre culturel franco-allemand Nantes
REFRESH-INTERVAL;VALUE=DURATION:PT1H
X-Robots-Tag:noindex
X-PUBLISHED-TTL:PT1H
BEGIN:VTIMEZONE
TZID:Europe/Paris
BEGIN:DAYLIGHT
TZOFFSETFROM:+0100
TZOFFSETTO:+0200
TZNAME:CEST
DTSTART:20250330T010000
END:DAYLIGHT
BEGIN:STANDARD
TZOFFSETFROM:+0200
TZOFFSETTO:+0100
TZNAME:CET
DTSTART:20251026T010000
END:STANDARD
BEGIN:DAYLIGHT
TZOFFSETFROM:+0100
TZOFFSETTO:+0200
TZNAME:CEST
DTSTART:20260329T010000
END:DAYLIGHT
BEGIN:STANDARD
TZOFFSETFROM:+0200
TZOFFSETTO:+0100
TZNAME:CET
DTSTART:20261025T010000
END:STANDARD
BEGIN:DAYLIGHT
TZOFFSETFROM:+0100
TZOFFSETTO:+0200
TZNAME:CEST
DTSTART:20270328T010000
END:DAYLIGHT
BEGIN:STANDARD
TZOFFSETFROM:+0200
TZOFFSETTO:+0100
TZNAME:CET
DTSTART:20271031T010000
END:STANDARD
END:VTIMEZONE
BEGIN:VEVENT
DTSTART;TZID=Europe/Paris:20260202T100000
DTEND;TZID=Europe/Paris:20260227T190000
DTSTAMP:20260420T085506
CREATED:20260114T155447Z
LAST-MODIFIED:20260128T122801Z
UID:22692-1770026400-1772218800@www.ccfa-nantes.org
SUMMARY:Exposition "ALLEMAGNES"
DESCRIPTION:En partenariat avec la librairie La Géothèque\, le CCFA et la Maison de l’Europe vous propose de découvrir l’exposition « Allemagnes »\, présentée du 2 au 27 février 2026. L’exposition réunit 29 cartes et dessins inédits issus de l’ouvrage collectif Allemagnes\, illustré par Étienne Weber\, étudiant en dernière année du Master Illustration scientifique de l’École Estienne (Paris). À travers 10 cartes de villes\, 10 illustrations d’ambiances urbaines et 9 cartes de transition\, l’exposition invite à une traversée ludique et colorée de l’Allemagne d’ouest en est. Elle propose une immersion dans la diversité et la richesse des villes allemandes\, révélant une Allemagne urbaine plurielle\, complexe et en constante évolution\, partenaire essentiel face aux défis du monde contemporain. Comme le souligne l’ouvrage\, il s’agit d’ « une traversée de l’Allemagne d’ouest en est\, mais aussi d’un tour du pays\, sans rester enfermé dans les frontières nationales : un voyage ludique et haut en couleur pour toutes et tous ». Le pluriel du titre s’impose ainsi naturellement.
URL:https://www.ccfa-nantes.org/single-agenda/exposition-allemagnes/
LOCATION:Europa Nantes
CATEGORIES:Exposition
END:VEVENT
END:VCALENDAR