BEGIN:VCALENDAR
VERSION:2.0
PRODID:-//CCFA Nantes - Centre culturel franco-allemand Nantes - ECPv6.15.20//NONSGML v1.0//EN
CALSCALE:GREGORIAN
METHOD:PUBLISH
X-WR-CALNAME:CCFA Nantes - Centre culturel franco-allemand Nantes
X-ORIGINAL-URL:https://www.ccfa-nantes.org
X-WR-CALDESC:Évènements pour CCFA Nantes - Centre culturel franco-allemand Nantes
REFRESH-INTERVAL;VALUE=DURATION:PT1H
X-Robots-Tag:noindex
X-PUBLISHED-TTL:PT1H
BEGIN:VTIMEZONE
TZID:Europe/Paris
BEGIN:DAYLIGHT
TZOFFSETFROM:+0100
TZOFFSETTO:+0200
TZNAME:CEST
DTSTART:20240331T010000
END:DAYLIGHT
BEGIN:STANDARD
TZOFFSETFROM:+0200
TZOFFSETTO:+0100
TZNAME:CET
DTSTART:20241027T010000
END:STANDARD
BEGIN:DAYLIGHT
TZOFFSETFROM:+0100
TZOFFSETTO:+0200
TZNAME:CEST
DTSTART:20250330T010000
END:DAYLIGHT
BEGIN:STANDARD
TZOFFSETFROM:+0200
TZOFFSETTO:+0100
TZNAME:CET
DTSTART:20251026T010000
END:STANDARD
BEGIN:DAYLIGHT
TZOFFSETFROM:+0100
TZOFFSETTO:+0200
TZNAME:CEST
DTSTART:20260329T010000
END:DAYLIGHT
BEGIN:STANDARD
TZOFFSETFROM:+0200
TZOFFSETTO:+0100
TZNAME:CET
DTSTART:20261025T010000
END:STANDARD
END:VTIMEZONE
BEGIN:VEVENT
DTSTART;TZID=Europe/Paris:20250605T190000
DTEND;TZID=Europe/Paris:20250605T210000
DTSTAMP:20260425T161200
CREATED:20250602T133230Z
LAST-MODIFIED:20250602T160612Z
UID:21447-1749150000-1749157200@www.ccfa-nantes.org
SUMMARY:Stammtisch Spezial
DESCRIPTION:Stammtisch + Stammtisch = Stammtisch Spezial ! \nLe CCFA et notre partenaire\, le Club d’affaires franco-allemand de Nantes Atlantique (CAFANA)\, organisent un café allemand commun\, le Stammtisch Spezial.  \nVous connaissez le principe : nous vous proposons un cadre ludique et décontracté pour échanger en allemand. Peu importe votre niveau d’allemand\, vous serez toutes et tous les bienvenu•es !\nCette fois\, vous avez l’occasion de rencontrer les publics non seulement du CCFA\, mais aussi du CAFANA. \nGratuit\, sans inscription. Consommation à vos frais.
URL:https://www.ccfa-nantes.org/single-agenda/stammtisch-spezial/
LOCATION:Europa Nantes\, 90-92 Boulevard de la Prairie au Duc\, Nantes\, 44200\, France
CATEGORIES:Stammtisch Franco-Allemand
ATTACH;FMTTYPE=image/png:https://www.ccfa-nantes.org/wp-content/uploads/2025/06/2025-06-05_Stammtisch_site-web-1200-x-630-px.png
END:VEVENT
END:VCALENDAR