BEGIN:VCALENDAR
VERSION:2.0
PRODID:-//CCFA Nantes - Centre culturel franco-allemand Nantes - ECPv6.15.20//NONSGML v1.0//EN
CALSCALE:GREGORIAN
METHOD:PUBLISH
X-WR-CALNAME:CCFA Nantes - Centre culturel franco-allemand Nantes
X-ORIGINAL-URL:https://www.ccfa-nantes.org
X-WR-CALDESC:Évènements pour CCFA Nantes - Centre culturel franco-allemand Nantes
REFRESH-INTERVAL;VALUE=DURATION:PT1H
X-Robots-Tag:noindex
X-PUBLISHED-TTL:PT1H
BEGIN:VTIMEZONE
TZID:Europe/Paris
BEGIN:DAYLIGHT
TZOFFSETFROM:+0100
TZOFFSETTO:+0200
TZNAME:CEST
DTSTART:20200329T010000
END:DAYLIGHT
BEGIN:STANDARD
TZOFFSETFROM:+0200
TZOFFSETTO:+0100
TZNAME:CET
DTSTART:20201025T010000
END:STANDARD
BEGIN:DAYLIGHT
TZOFFSETFROM:+0100
TZOFFSETTO:+0200
TZNAME:CEST
DTSTART:20210328T010000
END:DAYLIGHT
BEGIN:STANDARD
TZOFFSETFROM:+0200
TZOFFSETTO:+0100
TZNAME:CET
DTSTART:20211031T010000
END:STANDARD
BEGIN:DAYLIGHT
TZOFFSETFROM:+0100
TZOFFSETTO:+0200
TZNAME:CEST
DTSTART:20220327T010000
END:DAYLIGHT
BEGIN:STANDARD
TZOFFSETFROM:+0200
TZOFFSETTO:+0100
TZNAME:CET
DTSTART:20221030T010000
END:STANDARD
END:VTIMEZONE
BEGIN:VEVENT
DTSTART;TZID=Europe/Paris:20210210T143000
DTEND;TZID=Europe/Paris:20210210T153000
DTSTAMP:20260420T222043
CREATED:20210129T142230Z
LAST-MODIFIED:20210129T142500Z
UID:9887-1612967400-1612971000@www.ccfa-nantes.org
SUMMARY:EN LIGNE : « Vorlesekurs »\, pour les enfants de 6 à 11 ans
DESCRIPTION:L’objectif principal du « Vorlesekurs » est d’initier les enfants de 6 à 11 ans à la langue allemande à travers des histoires et des comptines allemandes\, lues ou racontées. D’autres activités\, telles que des bricolages ou de la mise en scène/du théâtre\, en lien avec les histoires présentées\, seront proposées.\nLes séances ont lieu deux mercredis par mois\, la prochaine séance aura lieu mercredi 10 février. \nTarif semestriel : 20€ \nInscription par mail : ccfa.service.pedagogique@gmail.com \nLe « Vorlesekurs » a lieu en ligne via Zoom :\nhttps://univ-nantes-fr.zoom.us/j/96287291873?pwd=dUd2dy8yTkYxT2UzTU96OFJnU3BQQT09\nID de la réunion : 962 8729 1873\nCode secret : 715925
URL:https://www.ccfa-nantes.org/single-agenda/en-ligne-vorlesekurs-pour-les-enfants-de-6-a-11-ans-4/
LOCATION:En ligne via Zoom
CATEGORIES:Vorlesekurs
ATTACH;FMTTYPE=image/jpeg:https://www.ccfa-nantes.org/wp-content/uploads/2021/01/WEB-Vorlesekurs-fevrier1.jpg
ORGANIZER;CN="Centre culturel franco-allemand":MAILTO:ccfanantes@gmail.com
END:VEVENT
END:VCALENDAR