BEGIN:VCALENDAR
VERSION:2.0
PRODID:-//CCFA Nantes - Centre culturel franco-allemand Nantes - ECPv6.15.20//NONSGML v1.0//EN
CALSCALE:GREGORIAN
METHOD:PUBLISH
X-WR-CALNAME:CCFA Nantes - Centre culturel franco-allemand Nantes
X-ORIGINAL-URL:https://www.ccfa-nantes.org
X-WR-CALDESC:Évènements pour CCFA Nantes - Centre culturel franco-allemand Nantes
REFRESH-INTERVAL;VALUE=DURATION:PT1H
X-Robots-Tag:noindex
X-PUBLISHED-TTL:PT1H
BEGIN:VTIMEZONE
TZID:Europe/Paris
BEGIN:DAYLIGHT
TZOFFSETFROM:+0100
TZOFFSETTO:+0200
TZNAME:CEST
DTSTART:20200329T010000
END:DAYLIGHT
BEGIN:STANDARD
TZOFFSETFROM:+0200
TZOFFSETTO:+0100
TZNAME:CET
DTSTART:20201025T010000
END:STANDARD
BEGIN:DAYLIGHT
TZOFFSETFROM:+0100
TZOFFSETTO:+0200
TZNAME:CEST
DTSTART:20210328T010000
END:DAYLIGHT
BEGIN:STANDARD
TZOFFSETFROM:+0200
TZOFFSETTO:+0100
TZNAME:CET
DTSTART:20211031T010000
END:STANDARD
BEGIN:DAYLIGHT
TZOFFSETFROM:+0100
TZOFFSETTO:+0200
TZNAME:CEST
DTSTART:20220327T010000
END:DAYLIGHT
BEGIN:STANDARD
TZOFFSETFROM:+0200
TZOFFSETTO:+0100
TZNAME:CET
DTSTART:20221030T010000
END:STANDARD
END:VTIMEZONE
BEGIN:VEVENT
DTSTART;TZID=Europe/Paris:20210407T143000
DTEND;TZID=Europe/Paris:20210407T153000
DTSTAMP:20260420T191844
CREATED:20210211T191107Z
LAST-MODIFIED:20210324T105646Z
UID:10226-1617805800-1617809400@www.ccfa-nantes.org
SUMMARY:EN LIGNE : « Vorlesekurs »\, pour les enfants de 6 à 11 ans
DESCRIPTION:L’objectif principal du « Vorlesekurs » est d’initier les enfants de 6 à 11 ans à la langue allemande à travers des histoires et des comptines allemandes\, lues ou racontées. D’autres activités\, telles que des bricolages ou de la mise en scène/du théâtre\, en lien avec les histoires présentées\, seront proposées.\nLes séances ont lieu deux mercredis par mois\, la prochaine séance aura lieu mercredi 21 avril. \nTarif semestriel : 20€ \nInscription par mail : ccfa.service.pedagogique@gmail.com \nLe « Vorlesekurs » a lieu en ligne via Zoom :\nhttps://univ-nantes-fr.zoom.us/j/96287291873?pwd=dUd2dy8yTkYxT2UzTU96OFJnU3BQQT09\nID de la réunion : 962 8729 1873\nCode secret : 715925
URL:https://www.ccfa-nantes.org/single-agenda/en-ligne-vorlesekurs-pour-les-enfants-de-6-a-11-ans-7/
LOCATION:En ligne via Zoom
CATEGORIES:Vorlesekurs
ATTACH;FMTTYPE=image/jpeg:https://www.ccfa-nantes.org/wp-content/uploads/2021/02/WEB-Vorlesekurs-07_04.jpg
ORGANIZER;CN="Centre culturel franco-allemand":MAILTO:ccfanantes@gmail.com
END:VEVENT
BEGIN:VEVENT
DTSTART;TZID=Europe/Paris:20210428T143000
DTEND;TZID=Europe/Paris:20210428T153000
DTSTAMP:20260420T191844
CREATED:20210211T191347Z
LAST-MODIFIED:20210406T093149Z
UID:10231-1619620200-1619623800@www.ccfa-nantes.org
SUMMARY:EN LIGNE : « Vorlesekurs »\, pour les enfants de 6 à 11 ans
DESCRIPTION:L’objectif principal du « Vorlesekurs » est d’initier les enfants de 6 à 11 ans à la langue allemande à travers des histoires et des comptines allemandes\, lues ou racontées. D’autres activités\, telles que des bricolages ou de la mise en scène/du théâtre\, en lien avec les histoires présentées\, seront proposées.\nLes séances ont lieu deux mercredis par mois\, la prochaine séance aura lieu mercredi 12 mai. \nTarif semestriel : 20€ \nInscription par mail : ccfa.service.pedagogique@gmail.com \nLe « Vorlesekurs » a lieu en ligne via Zoom :\nhttps://univ-nantes-fr.zoom.us/j/96287291873?pwd=dUd2dy8yTkYxT2UzTU96OFJnU3BQQT09\nID de la réunion : 962 8729 1873\nCode secret : 715925
URL:https://www.ccfa-nantes.org/single-agenda/en-ligne-vorlesekurs-pour-les-enfants-de-6-a-11-ans-8/
LOCATION:En ligne via Zoom
CATEGORIES:Vorlesekurs
ATTACH;FMTTYPE=image/png:https://www.ccfa-nantes.org/wp-content/uploads/2021/02/WEB-Vorlesekurs-21_04.png
ORGANIZER;CN="Centre culturel franco-allemand":MAILTO:ccfanantes@gmail.com
END:VEVENT
END:VCALENDAR