BEGIN:VCALENDAR
VERSION:2.0
PRODID:-//CCFA Nantes - Centre culturel franco-allemand Nantes - ECPv6.15.20//NONSGML v1.0//EN
CALSCALE:GREGORIAN
METHOD:PUBLISH
X-ORIGINAL-URL:https://www.ccfa-nantes.org
X-WR-CALDESC:Évènements pour CCFA Nantes - Centre culturel franco-allemand Nantes
REFRESH-INTERVAL;VALUE=DURATION:PT1H
X-Robots-Tag:noindex
X-PUBLISHED-TTL:PT1H
BEGIN:VTIMEZONE
TZID:Europe/Paris
BEGIN:DAYLIGHT
TZOFFSETFROM:+0100
TZOFFSETTO:+0200
TZNAME:CEST
DTSTART:20210328T010000
END:DAYLIGHT
BEGIN:STANDARD
TZOFFSETFROM:+0200
TZOFFSETTO:+0100
TZNAME:CET
DTSTART:20211031T010000
END:STANDARD
BEGIN:DAYLIGHT
TZOFFSETFROM:+0100
TZOFFSETTO:+0200
TZNAME:CEST
DTSTART:20220327T010000
END:DAYLIGHT
BEGIN:STANDARD
TZOFFSETFROM:+0200
TZOFFSETTO:+0100
TZNAME:CET
DTSTART:20221030T010000
END:STANDARD
BEGIN:DAYLIGHT
TZOFFSETFROM:+0100
TZOFFSETTO:+0200
TZNAME:CEST
DTSTART:20230326T010000
END:DAYLIGHT
BEGIN:STANDARD
TZOFFSETFROM:+0200
TZOFFSETTO:+0100
TZNAME:CET
DTSTART:20231029T010000
END:STANDARD
END:VTIMEZONE
BEGIN:VEVENT
DTSTART;TZID=Europe/Paris:20220503T203000
DTEND;TZID=Europe/Paris:20220503T220000
DTSTAMP:20260422T115204
CREATED:20220412T095510Z
LAST-MODIFIED:20220426T103148Z
UID:13835-1651609800-1651615200@www.ccfa-nantes.org
SUMMARY:Soirée courts-métrages
DESCRIPTION:3 mai 2022 // 20h30 sous réserve // Soirée court-métrage européenne au cinéma Katorza
URL:https://www.ccfa-nantes.org/single-agenda/soiree-courts-metrages/
LOCATION:Cinema Katorza\, 3\, rue Corneille\, Nantes\, 44000\, France
ATTACH;FMTTYPE=image/png:https://www.ccfa-nantes.org/wp-content/uploads/2022/04/OFFRE-DEMPLOI.png
END:VEVENT
BEGIN:VEVENT
DTSTART;TZID=Europe/Paris:20220504T143000
DTEND;TZID=Europe/Paris:20220504T183000
DTSTAMP:20260422T115204
CREATED:20220412T101520Z
LAST-MODIFIED:20220412T101520Z
UID:13850-1651674600-1651689000@www.ccfa-nantes.org
SUMMARY:Atelier Aquarelle et Exposition avec Zahra Maghsoudi
DESCRIPTION:4 mai 2022 // 14h30-18h30 // Atelier Aquarelle et Exposition avec Zahra Maghsoudi à Europa Nantes
URL:https://www.ccfa-nantes.org/single-agenda/atelier-aquarelle-et-exposition-avec-zahra-maghsoudi/
LOCATION:Europa Nantes
ATTACH;FMTTYPE=image/png:https://www.ccfa-nantes.org/wp-content/uploads/2022/04/Atelier-aquarelle-Instagram.png
END:VEVENT
BEGIN:VEVENT
DTSTART;TZID=Europe/Paris:20220505T183000
DTEND;TZID=Europe/Paris:20220505T193000
DTSTAMP:20260422T115204
CREATED:20220411T090158Z
LAST-MODIFIED:20220411T090158Z
UID:13810-1651775400-1651779000@www.ccfa-nantes.org
SUMMARY:Permanence sur  la  mobilité vers l'Allemagne
DESCRIPTION:Vous souhaitez faire une mobilité à l’étranger et découvrir l’Allemagne ? Gute Idee ! \nVous avez des questions sur le quotidien de notre pays voisin ? Il vous faudrait un coup de main pour la recherche d’un programme de soutien financier ? Vous souhaitez discuter avec une personne qui a déjà fait une mobilité internationale ? \nAlors inscrivez-vous à notre prochaine permanence sur la mobilité vers l’Allemagne ici. \nJeudi\, 5 mai 2022\n 18h30-19h30\nà Europa Nantes\navec Yannick Zelle\, Jeune ambassadeur de l’OFAJ à Nantes\n \nLes permanences sur la mobilité vers l’Allemagne sont organisées par le Centre Culturel Franco-Allemand de Nantes\, en coopération avec ses partenaires.
URL:https://www.ccfa-nantes.org/single-agenda/permanence-sur-la-mobilite-vers-lallemagne-4/
LOCATION:Europa Nantes
ATTACH;FMTTYPE=image/png:https://www.ccfa-nantes.org/wp-content/uploads/2022/04/2022-03_Permanences-mobilite5.png
END:VEVENT
BEGIN:VEVENT
DTSTART;TZID=Europe/Paris:20220505T193000
DTEND;TZID=Europe/Paris:20220505T193000
DTSTAMP:20260422T115204
CREATED:20220412T100539Z
LAST-MODIFIED:20220412T100539Z
UID:13838-1651779000-1651779000@www.ccfa-nantes.org
SUMMARY:Unterwegs - une création théâtrale
DESCRIPTION:5 mai 2022 // 19h30 // une création théâtrale à Europa Nantes \n 
URL:https://www.ccfa-nantes.org/single-agenda/unterwegs-une-creation-theatrale/
LOCATION:Europa Nantes
ATTACH;FMTTYPE=image/png:https://www.ccfa-nantes.org/wp-content/uploads/2022/04/OFFRE-DEMPLOI1.png
END:VEVENT
BEGIN:VEVENT
DTSTART;TZID=Europe/Paris:20220509T190000
DTEND;TZID=Europe/Paris:20220509T203000
DTSTAMP:20260422T115204
CREATED:20220412T100654Z
LAST-MODIFIED:20220412T100654Z
UID:13840-1652122800-1652128200@www.ccfa-nantes.org
SUMMARY:Répétition de la chorale du CCFA
DESCRIPTION:9 mai 2022 // 19h-20h30 // Répétition de la chorale du CCFA à Europa Nantes
URL:https://www.ccfa-nantes.org/single-agenda/repetition-de-la-chorale-du-ccfa-2/
LOCATION:Europa Nantes
ATTACH;FMTTYPE=image/png:https://www.ccfa-nantes.org/wp-content/uploads/2022/04/OFFRE-DEMPLOI2.png
END:VEVENT
BEGIN:VEVENT
DTSTART;TZID=Europe/Paris:20220514T000000
DTEND;TZID=Europe/Paris:20220514T000000
DTSTAMP:20260422T115204
CREATED:20220412T101018Z
LAST-MODIFIED:20220412T101018Z
UID:13846-1652486400-1652486400@www.ccfa-nantes.org
SUMMARY:Concert de la chorale du CCFA
DESCRIPTION:14 mai 2022 // horaire sous réserve // Concert de la chorale du CCFA à Europa Nantes
URL:https://www.ccfa-nantes.org/single-agenda/concert-de-la-chorale-du-ccfa/
LOCATION:Europa Nantes
ATTACH;FMTTYPE=image/png:https://www.ccfa-nantes.org/wp-content/uploads/2022/04/OFFRE-DEMPLOI3.png
END:VEVENT
BEGIN:VEVENT
DTSTART;TZID=Europe/Paris:20220518T160000
DTEND;TZID=Europe/Paris:20220518T180000
DTSTAMP:20260422T115204
CREATED:20220412T101144Z
LAST-MODIFIED:20220412T101144Z
UID:13848-1652889600-1652896800@www.ccfa-nantes.org
SUMMARY:L’enseignement des langues vivantes
DESCRIPTION:18 mai 2022 // 16h-18h // L’enseignement des langues vivantes à Europa Nantes
URL:https://www.ccfa-nantes.org/single-agenda/lenseignement-des-langues-vivantes/
LOCATION:Europa Nantes
ATTACH;FMTTYPE=image/png:https://www.ccfa-nantes.org/wp-content/uploads/2022/04/OFFRE-DEMPLOI4.png
END:VEVENT
BEGIN:VEVENT
DTSTART;TZID=Europe/Paris:20220531T190000
DTEND;TZID=Europe/Paris:20220531T213000
DTSTAMP:20260422T115204
CREATED:20220523T062518Z
LAST-MODIFIED:20220523T062556Z
UID:14063-1654023600-1654032600@www.ccfa-nantes.org
SUMMARY:Soirée de clôture du mois de l’Europe avec concert du groupe MezclaMezcal
DESCRIPTION:Après un mois de festivités\, il est venu le temps de dire à l’année prochaine au joli mois de l’Europe ! \nLa soirée démarrera par un concert du groupe « MezclaMezcal» trilingue franco-hispano-allemand de Leipzig. \nA l’issue du concert\, nous vous proposerons de partager un apéritif européen. L’occasion de découvrir plusieurs spécialités européennes. Chacun peut amener des mets à partager ! \nCliquez ICI pour lire plus sur le concert.
URL:https://www.ccfa-nantes.org/single-agenda/soiree-de-cloture-du-mois-de-leurope-avec-concert-du-groupe-mezclamezcal/
LOCATION:Europa Nantes
ATTACH;FMTTYPE=image/png:https://www.ccfa-nantes.org/wp-content/uploads/2022/05/visuel-soiree-cloture-Couverture-devenement-Facebook-Instagram-Post-Square-3.png
END:VEVENT
END:VCALENDAR