BEGIN:VCALENDAR
VERSION:2.0
PRODID:-//CCFA Nantes - Centre culturel franco-allemand Nantes - ECPv6.15.20//NONSGML v1.0//EN
CALSCALE:GREGORIAN
METHOD:PUBLISH
X-ORIGINAL-URL:https://www.ccfa-nantes.org
X-WR-CALDESC:Évènements pour CCFA Nantes - Centre culturel franco-allemand Nantes
REFRESH-INTERVAL;VALUE=DURATION:PT1H
X-Robots-Tag:noindex
X-PUBLISHED-TTL:PT1H
BEGIN:VTIMEZONE
TZID:Europe/Paris
BEGIN:DAYLIGHT
TZOFFSETFROM:+0100
TZOFFSETTO:+0200
TZNAME:CEST
DTSTART:20210328T010000
END:DAYLIGHT
BEGIN:STANDARD
TZOFFSETFROM:+0200
TZOFFSETTO:+0100
TZNAME:CET
DTSTART:20211031T010000
END:STANDARD
BEGIN:DAYLIGHT
TZOFFSETFROM:+0100
TZOFFSETTO:+0200
TZNAME:CEST
DTSTART:20220327T010000
END:DAYLIGHT
BEGIN:STANDARD
TZOFFSETFROM:+0200
TZOFFSETTO:+0100
TZNAME:CET
DTSTART:20221030T010000
END:STANDARD
BEGIN:DAYLIGHT
TZOFFSETFROM:+0100
TZOFFSETTO:+0200
TZNAME:CEST
DTSTART:20230326T010000
END:DAYLIGHT
BEGIN:STANDARD
TZOFFSETFROM:+0200
TZOFFSETTO:+0100
TZNAME:CET
DTSTART:20231029T010000
END:STANDARD
END:VTIMEZONE
BEGIN:VEVENT
DTSTART;TZID=Europe/Paris:20220621T093000
DTEND;TZID=Europe/Paris:20220624T123000
DTSTAMP:20260420T044736
CREATED:20210715T095522Z
LAST-MODIFIED:20220519T154755Z
UID:11620-1655803800-1656073800@www.ccfa-nantes.org
SUMMARY:Stage intensif pour adultes - niveau A2/B1
DESCRIPTION:L’été approche et le prochain stage du CCFA s’invite à vos agendas : préparez vos vacances en Allemagne du 21 au 24 juin 2022.\n\n\n\n\nDu 21 au 24 juin 2022\, de 9h30 à 12h30\nà Europa Nantes (90-92 boulevard de la Prairie au Duc\, 44200 Nantes)\n\n \n\nCliquez ICI pour plus d’informations concernant le stage\, les tarifs et les renseignements.
URL:https://www.ccfa-nantes.org/single-agenda/stage-intensif-dallemand-pour-adultes-niveau-a2-b1/
LOCATION:Centre culturel franco-allemand\, 90-92\, boulevard de la Prairie au Duc\, Nantes\, Frankreich
CATEGORIES:Stage intensif
ATTACH;FMTTYPE=image/png:https://www.ccfa-nantes.org/wp-content/uploads/2022/05/2022-06_Stage-intensif-adultes_Insta.png
ORGANIZER;CN="Centre culturel franco-allemand":MAILTO:ccfanantes@gmail.com
END:VEVENT
BEGIN:VEVENT
DTSTART;TZID=Europe/Paris:20220624T150000
DTEND;TZID=Europe/Paris:20220624T180000
DTSTAMP:20260420T044736
CREATED:20220620T090643Z
LAST-MODIFIED:20220620T091036Z
UID:14120-1656082800-1656093600@www.ccfa-nantes.org
SUMMARY:Braderie de livres et préinscription aux cours d'allemand
DESCRIPTION:Le vendredi 24 juin de 15h à 18h à Europa Nantes\, le Centre culturel franco-allemand vous invite à une braderie de livres – ouvrages en allemand mais aussi en français (des livres que nous possédons en double ou pour lesquels nous n’avons pas la place nécessaire sur nos rayons). Cliquez ICI pour plus d’informations sur la braderie. \nCe sera aussi l’occasion de découvrir notre bibliothèque\, de vous informer sur les projets du CCFA et de vous préinscrire aux cours et activités de la saison 2022/2023 sur place. La préinscription aux cours d’allemand est également possible par formulaire numérique qui est disponible en cliquant ICI. \nNous serons heureux de vous rencontrer à cette occasion ! D’ailleurs\, un petit gouter sera assuré. \nEuropa Nantes\, 90-92 boulevard de la Prairie au Duc\, 44200 Nantes
URL:https://www.ccfa-nantes.org/single-agenda/braderie-de-livres-et-preinscription-aux-cours-dallemand/
LOCATION:Europa Nantes
ATTACH;FMTTYPE=image/png:https://www.ccfa-nantes.org/wp-content/uploads/2022/06/2022-06_Braderiepreinscription-e1655716056352.png
END:VEVENT
END:VCALENDAR