BEGIN:VCALENDAR
VERSION:2.0
PRODID:-//CCFA Nantes - Centre culturel franco-allemand Nantes - ECPv6.15.20//NONSGML v1.0//EN
CALSCALE:GREGORIAN
METHOD:PUBLISH
X-ORIGINAL-URL:https://www.ccfa-nantes.org
X-WR-CALDESC:Évènements pour CCFA Nantes - Centre culturel franco-allemand Nantes
REFRESH-INTERVAL;VALUE=DURATION:PT1H
X-Robots-Tag:noindex
X-PUBLISHED-TTL:PT1H
BEGIN:VTIMEZONE
TZID:Europe/Paris
BEGIN:DAYLIGHT
TZOFFSETFROM:+0100
TZOFFSETTO:+0200
TZNAME:CEST
DTSTART:20210328T010000
END:DAYLIGHT
BEGIN:STANDARD
TZOFFSETFROM:+0200
TZOFFSETTO:+0100
TZNAME:CET
DTSTART:20211031T010000
END:STANDARD
BEGIN:DAYLIGHT
TZOFFSETFROM:+0100
TZOFFSETTO:+0200
TZNAME:CEST
DTSTART:20220327T010000
END:DAYLIGHT
BEGIN:STANDARD
TZOFFSETFROM:+0200
TZOFFSETTO:+0100
TZNAME:CET
DTSTART:20221030T010000
END:STANDARD
BEGIN:DAYLIGHT
TZOFFSETFROM:+0100
TZOFFSETTO:+0200
TZNAME:CEST
DTSTART:20230326T010000
END:DAYLIGHT
BEGIN:STANDARD
TZOFFSETFROM:+0200
TZOFFSETTO:+0100
TZNAME:CET
DTSTART:20231029T010000
END:STANDARD
END:VTIMEZONE
BEGIN:VEVENT
DTSTART;TZID=Europe/Paris:20220910T100000
DTEND;TZID=Europe/Paris:20220910T170000
DTSTAMP:20260420T002033
CREATED:20220824T141850Z
LAST-MODIFIED:20220824T154240Z
UID:14173-1662804000-1662829200@www.ccfa-nantes.org
SUMMARY:Journée portes ouvertes du CCFA
DESCRIPTION:Le samedi 10 septembre entre 10h et 17h\, nous vous invitons à rencontrer l’équipe et les bénévoles du CCFA lors de la Journée portes ouvertes des associations européennes d’Europa Nantes ! \nAu programme : \n\nAdhésion annuelle\nInscription aux cours d’allemand\, à la chorale franco-allemande ou au cercle littéraire\nInformation sur les activités culturelles du CCFA et la bibliothèque allemande à Europa Nantes\nRenseignements sur la mobilité vers l’Allemagne et la réouverture de notre bureau des stages\n\nEntre 12h et 14h\, vous pouvez déjeuner sur place et goûter des recettes européennes ! \nAdresse : Europa Nantes\, 90-92 Boulevard de la Prairie au Duc\, 44200 Nantes
URL:https://www.ccfa-nantes.org/single-agenda/journee-portes-ouvertes-du-ccfa/
LOCATION:Europa Nantes
ATTACH;FMTTYPE=image/png:https://www.ccfa-nantes.org/wp-content/uploads/2022/08/Portes-Ouvertes-des-associations-2022-500-×-500-px.png
END:VEVENT
BEGIN:VEVENT
DTSTART;TZID=Europe/Paris:20220922T170000
DTEND;TZID=Europe/Paris:20220922T190000
DTSTAMP:20260420T002033
CREATED:20220917T114305Z
LAST-MODIFIED:20220917T120020Z
UID:14206-1663866000-1663873200@www.ccfa-nantes.org
SUMMARY:Inscription aux cours et activités du CCFA
DESCRIPTION:Vous souhaitez vous inscrire aux cours d’allemand du CCFA ? Vous vous intéressez à intégrer la Chorale franco-allemande ou à participer au Cercle littéraire ?  \nRencontrez ce jeudi entre 17h et 19h les bénévoles du CCFA et finalisez votre inscription ! \nNous vous attendons à la bibliothèque d’Europa Nantes. La séance d’inscription sera suivi par le Stammtisch mensuel du CCFA à partir de 19h – une occasion de parler l’allemand dans un cadre ludique et décontracté. \nAdresse : Europa Nantes\, 90-92 Bd de la Prairie au Duc\, 44200 Nantes
URL:https://www.ccfa-nantes.org/single-agenda/inscription-aux-cours-et-activites-du-ccfa/
LOCATION:Europa Nantes
ATTACH;FMTTYPE=image/png:https://www.ccfa-nantes.org/wp-content/uploads/2022/09/2022-09-22_Inscription-STAMMTISCH_Site-web-1-e1663415981432.png
END:VEVENT
BEGIN:VEVENT
DTSTART;TZID=Europe/Paris:20220922T190000
DTEND;TZID=Europe/Paris:20220922T210000
DTSTAMP:20260420T002033
CREATED:20220917T120422Z
LAST-MODIFIED:20220917T120507Z
UID:14212-1663873200-1663880400@www.ccfa-nantes.org
SUMMARY:Stammtisch - café allemand
DESCRIPTION:Après l’après-midi inscription aux cours et activités du CCFA (17h-19h)\, nous vous invitons à nous joindre pour notre Stammtisch de la rentrée ! Vous souhaitez pratiquer l’allemand dans un cadre ludique et décontracté ? N’importe quel est votre niveau d’allemand – vous serez tou.te.s les bienvenu.e.s. \nRendez-vous à la bibliothèque d’Europa Nantes\, le café associatif sera ouvert ! \nAdresse : Europa Nantes\, 90-92 Bd de la Prairie au Duc\, 44200 Nantes
URL:https://www.ccfa-nantes.org/single-agenda/stammtisch-cafe-allemand/
LOCATION:Europa Nantes
ATTACH;FMTTYPE=image/png:https://www.ccfa-nantes.org/wp-content/uploads/2022/09/2022-09-22_Inscription-STAMMTISCH_Site-web-1-e1663415981432.png
END:VEVENT
BEGIN:VEVENT
DTSTART;TZID=Europe/Paris:20220924T110000
DTEND;TZID=Europe/Paris:20220924T120000
DTSTAMP:20260420T002033
CREATED:20220923T153206Z
LAST-MODIFIED:20220923T153336Z
UID:14228-1664017200-1664020800@www.ccfa-nantes.org
SUMMARY:Fête européenne des langues - Escape game européen
DESCRIPTION:À l’occasion de la fête européenne des langues\, plongez le temps d’un escape game dans un univers multilingue et multiculturel ! Six énigmes à résoudre pour retrouver un trésor caché dans une mystérieuse malle…\n \nVenez apprendre des nouvelles langues et découvrir de nouveaux horizons\, le temps d’une petite heure !\nCliquez ICI pour vous inscrire.\n \nL’événement est organisé par le Centre culturel franco-roumain et la Maison de l’Europe\, en coopération avec le CCFA et d’autres associations européennes de Nantes.
URL:https://www.ccfa-nantes.org/single-agenda/fete-europeenne-des-langues-escape-game-europeen/
LOCATION:Europa Nantes
ATTACH;FMTTYPE=image/png:https://www.ccfa-nantes.org/wp-content/uploads/2022/09/Fete-europeenne-des-langues-Publication-Instagram-carree-e1663947176738.png
END:VEVENT
END:VCALENDAR