BEGIN:VCALENDAR
VERSION:2.0
PRODID:-//CCFA Nantes - Centre culturel franco-allemand Nantes - ECPv6.15.20//NONSGML v1.0//EN
CALSCALE:GREGORIAN
METHOD:PUBLISH
X-ORIGINAL-URL:https://www.ccfa-nantes.org
X-WR-CALDESC:Évènements pour CCFA Nantes - Centre culturel franco-allemand Nantes
REFRESH-INTERVAL;VALUE=DURATION:PT1H
X-Robots-Tag:noindex
X-PUBLISHED-TTL:PT1H
BEGIN:VTIMEZONE
TZID:Europe/Paris
BEGIN:DAYLIGHT
TZOFFSETFROM:+0100
TZOFFSETTO:+0200
TZNAME:CEST
DTSTART:20210328T010000
END:DAYLIGHT
BEGIN:STANDARD
TZOFFSETFROM:+0200
TZOFFSETTO:+0100
TZNAME:CET
DTSTART:20211031T010000
END:STANDARD
BEGIN:DAYLIGHT
TZOFFSETFROM:+0100
TZOFFSETTO:+0200
TZNAME:CEST
DTSTART:20220327T010000
END:DAYLIGHT
BEGIN:STANDARD
TZOFFSETFROM:+0200
TZOFFSETTO:+0100
TZNAME:CET
DTSTART:20221030T010000
END:STANDARD
BEGIN:DAYLIGHT
TZOFFSETFROM:+0100
TZOFFSETTO:+0200
TZNAME:CEST
DTSTART:20230326T010000
END:DAYLIGHT
BEGIN:STANDARD
TZOFFSETFROM:+0200
TZOFFSETTO:+0100
TZNAME:CET
DTSTART:20231029T010000
END:STANDARD
END:VTIMEZONE
BEGIN:VEVENT
DTSTART;VALUE=DATE:20221026
DTEND;VALUE=DATE:20221207
DTSTAMP:20260419T180516
CREATED:20221026T095900Z
LAST-MODIFIED:20221028T071831Z
UID:14534-1666742400-1670371199@www.ccfa-nantes.org
SUMMARY:Inscriptions au Goethe-Zertifikat
DESCRIPTION:Vous souhaitez obtenir un certificat de votre niveau d’allemand reconnu dans le monde entier ? Inscrivez-vous à la prochaine session des examens Goethe-Test PRO et Goethe-Zertifikat avant le 6 décembre 2022. Les examens auront lieu le 6 janvier 2023 à Europa Nantes\, 90 Boulevard de la Prairie au Duc\, 44200 Nantes.\nPlus d’infos concernant les modalités et l’inscription ICI.
URL:https://www.ccfa-nantes.org/single-agenda/14534/
LOCATION:Europa Nantes
ATTACH;FMTTYPE=image/png:https://www.ccfa-nantes.org/wp-content/uploads/2022/10/Goethe-test-ig-e1666777464834.png
END:VEVENT
BEGIN:VEVENT
DTSTART;TZID=Europe/Paris:20221201T190000
DTEND;TZID=Europe/Paris:20221201T210000
DTSTAMP:20260419T180516
CREATED:20221121T112903Z
LAST-MODIFIED:20221201T084457Z
UID:14637-1669921200-1669928400@www.ccfa-nantes.org
SUMMARY:Stammtisch
DESCRIPTION:Vous souhaitez pratiquer l’allemand dans un cadre ludique et décontracté ? Venez au prochain Stammtisch du CCFA ! Peu importe votre niveau d’allemand – vous serez tou.te.s les bienvenu.e.s. \nVenez à notre rencontre au bar-librairie La Flibuste à partir de 19h.
URL:https://www.ccfa-nantes.org/single-agenda/stammtisch-18/
LOCATION:La Flibuste\, 6 allée Susan Brownell Anthony\, Nantes\, 44200\, France
ATTACH;FMTTYPE=image/png:https://www.ccfa-nantes.org/wp-content/uploads/2022/11/STAMMTISCH-011222_INSTA-e1669029749529.png
END:VEVENT
BEGIN:VEVENT
DTSTART;TZID=Europe/Paris:20221202T080000
DTEND;TZID=Europe/Paris:20221202T170000
DTSTAMP:20260419T180516
CREATED:20221202T144224Z
LAST-MODIFIED:20221202T144224Z
UID:14761-1669968000-1670000400@www.ccfa-nantes.org
SUMMARY:Stammtisch
DESCRIPTION:Jeudi 5 janvier 2023\, Stammtisch à partir de 19h à La Flibuste (6 allée Susan Brownell Anthony\, 44200 Nantes). \nVous souhaitez pratiquer l’allemand dans un cadre ludique et décontracté ? Venez au prochain Stammtisch du CCFA ! Peu importe votre niveau d’allemand – vous serez tou.te.s les bienvenu.e.s. \nVenez à notre rencontre au bar-librairie La Flibuste à partir de 19h.
URL:https://www.ccfa-nantes.org/single-agenda/stammtisch-19/
END:VEVENT
BEGIN:VEVENT
DTSTART;TZID=Europe/Paris:20221203T130000
DTEND;TZID=Europe/Paris:20221203T180000
DTSTAMP:20260419T180516
CREATED:20221121T133323Z
LAST-MODIFIED:20221123T165939Z
UID:14674-1670072400-1670090400@www.ccfa-nantes.org
SUMMARY:Deutschlehrertag
DESCRIPTION:Après quelques années de pause\, nous souhaitons continuer la tradition d’une journée de rencontre pour professeurs d’allemand (écoles/collèges/lycées/établissements d’enseignement supérieur) – notre Deutschlehrertag\, pour renforcer les liens entre professeurs d’allemand et être à l’écoute de vos propositions et défis. \nL’édition 2022 est organisée par le Centre culturel franco-allemand (CCFA) de Nantes\, l’ADEAF de l’académie de Nantes et le Département d’études germaniques de Nantes Université et aura lieu le 3 décembre entre 13h et 18h à Europa Nantes (90 Boulevard de la Prairie au Duc\, 44200 Nantes). \nIl est également l’occasion d’échanger autour des projets en lien avec les 60 ans du Traité de l’Élysée. \nCliquez ICI pour en savoir plus sur le Deutschlehrertag. Pour vous inscrire\, cliquez ICI.
URL:https://www.ccfa-nantes.org/single-agenda/deutschlehrertag-2/
LOCATION:Europa Nantes
ATTACH;FMTTYPE=image/png:https://www.ccfa-nantes.org/wp-content/uploads/2022/11/2022-12-03_Deutschlehrertag_Insta-1-e1669222230692.png
END:VEVENT
BEGIN:VEVENT
DTSTART;TZID=Europe/Paris:20221204T110000
DTEND;TZID=Europe/Paris:20221204T110000
DTSTAMP:20260419T180516
CREATED:20221201T090221Z
LAST-MODIFIED:20221202T101647Z
UID:14731-1670151600-1670151600@www.ccfa-nantes.org
SUMMARY:Concert de la chorale franco-allemande
DESCRIPTION:Retrouvez la chorale franco-allemande entre le square Barbara et la rue Traversière à partir de 11h afin d’inaugurer la nouvelle fresque Barbara ! \nL’inauguration sera suivie d’un vin d’honneur à la maison de quartier de St Joseph de Porterie\, rue Louis Pergaud. \nVenez nombreux !
URL:https://www.ccfa-nantes.org/single-agenda/concert-de-la-chorale-franco-allemande/
LOCATION:Rue Louis Pergaud\, Rue Louis Pergaud\, Nantes\, 44000\, France
CATEGORIES:Chorale
ATTACH;FMTTYPE=image/png:https://www.ccfa-nantes.org/wp-content/uploads/2022/12/Visuel-chorale-e1669885298645.png
END:VEVENT
BEGIN:VEVENT
DTSTART;TZID=Europe/Paris:20221209T180000
DTEND;TZID=Europe/Paris:20221209T193000
DTSTAMP:20260419T180516
CREATED:20221130T112809Z
LAST-MODIFIED:20221130T112809Z
UID:14719-1670608800-1670614200@www.ccfa-nantes.org
SUMMARY:Permanence sur la mobilité vers l'Allemagne
DESCRIPTION:Vendredi 9 décembre\, de 18h à 19h30 au Café Landru (7 rue Lekain\, 44000 Nantes). \nVous souhaitez faire une mobilité à l’étranger et découvrir l’Allemagne ? Gute Idee ! \nVous avez des questions sur le quotidien de notre pays voisin ? Il vous faudrait un coup de main pour la recherche d’un programme de soutien financier ? Vous souhaitez discuter avec une personne qui a déjà fait une mobilité internationale ? \nAlors inscrivez-vous à notre prochaine permanence sur la mobilité vers l’Allemagne en cliquant ici. \nElle sera assurée par Ellen Erdkönig\, Jeune ambassadrice de Sarrebruck à Nantes\, et Kenza Lazreq\, Jeune ambassadrice de l’OFAJ en Bretagne et Pays de la Loire. \nLes permanences sur la mobilité vers l’Allemagne sont organisées par le Centre culturel franco-allemand de Nantes\, en coopération avec ses partenaires.
URL:https://www.ccfa-nantes.org/single-agenda/permanence-sur-la-mobilite-vers-lallemagne-6/
LOCATION:Café Landru\, 7 rue Lekain\, Nantes\, 44000
ATTACH;FMTTYPE=image/png:https://www.ccfa-nantes.org/wp-content/uploads/2022/11/2022-12-09_Permanence_Insta-e1669807641975.png
END:VEVENT
BEGIN:VEVENT
DTSTART;TZID=Europe/Paris:20221210T120000
DTEND;TZID=Europe/Paris:20221210T120000
DTSTAMP:20260419T180516
CREATED:20221202T142101Z
LAST-MODIFIED:20221207T215346Z
UID:14755-1670673600-1670673600@www.ccfa-nantes.org
SUMMARY:Europa Party
DESCRIPTION:C’est le retour de la fête de fin d’année à Europa Nantes !\nLes associations européennes nantaises vous invitent à découvrir les traditions de Noël\, Saint-Nicolas et autres fêtes de fin d’année emblématiques dans les différents pays européens. \nAu programme :\n– 12h à 13h30 : brunch européen participatif (chacun emmène des spécialités à partager)\nSur inscription : https://forms.gle/i9qrNnxfVArPAL6XA\n– 13h30 – 14h30 : Atelier de fabrication de décoration de Noël par l’association Franco-Bulgare\n– 13h30 : Concert de la chorale franco-allemande du CCFA\n– 14h et 14h30 : Pictionnary européen\n– 15h : Initiation aux danses bulgares\n– 16h : Blindtest européen par équipe\n– Et aussi : Découverte des traditions européennes\, des quizz\, des stands\, des ateliers de broderies roumaines\, un escape game\, des lectures de contes\, sans oublier le vin chaud\, le chocolat chaud… \nEt plein d’autres surprises !  \nSamedi 10 décembre à partir de 12h à Europa Nantes (90 – 92 Bd de la Prairie au Duc).
URL:https://www.ccfa-nantes.org/single-agenda/europa-party/
LOCATION:Europa Nantes
ATTACH;FMTTYPE=image/png:https://www.ccfa-nantes.org/wp-content/uploads/2022/12/Europa-Party-2022-Publication-Instagram1-e1669980409535.png
END:VEVENT
BEGIN:VEVENT
DTSTART;TZID=Europe/Paris:20221211T160000
DTEND;TZID=Europe/Paris:20221211T160000
DTSTAMP:20260419T180516
CREATED:20221202T110409Z
LAST-MODIFIED:20221207T203707Z
UID:14752-1670774400-1670774400@www.ccfa-nantes.org
SUMMARY:Annulé : Kindernachmittag
DESCRIPTION:Faute d’inscriptions\, cette rencontre est annulée. Nous communiquerons bientôt la date pour le prochain « Kindernachmittag » ! \nDimanche 11 décembre\, à 16h sans la salle Agora à Europa Nantes (90-92 Bd de la Prairie au Duc). \nPour terminer l’année de manière conviviale\, rejoignez-nous autour d’un goûter de l’Avent ! Au programme\, musiques et histoires de Noël pour les enfants et leur.s accompagnateur.s.
URL:https://www.ccfa-nantes.org/single-agenda/kindernachmittag-16/
ATTACH;FMTTYPE=image/png:https://www.ccfa-nantes.org/wp-content/uploads/2022/12/Sans-titre-3-e1669979022620.png
END:VEVENT
BEGIN:VEVENT
DTSTART;TZID=Europe/Paris:20221214T183000
DTEND;TZID=Europe/Paris:20221214T193000
DTSTAMP:20260419T180516
CREATED:20221027T102701Z
LAST-MODIFIED:20221205T085638Z
UID:14564-1671042600-1671046200@www.ccfa-nantes.org
SUMMARY:Kneipen-Quiz
DESCRIPTION:Mercredi 14 décembre 2022\, 18h30\, Berlin 1989 « Republik » (2 Pl. Abbé Pierre\, 44200 Nantes)\n \nLa série des « Kneipen-Quiz »\, des Pub-Quiz à l’allemande (mais en français)\, continue ! Participez à notre édition Noël en groupe ou venez créer votre équipe sur place. Il y aura des prix à gagner pour la meilleure team !\nL’inscription est fortement conseillée ! Cliquez ICI. \n\nAttention : La France est susceptible de jouer en demi-finale le même soir\, à partir de 20h. Si vous souhaitez rester au Berlin « Republik » après notre quiz\, merci de bien vouloir réserver votre table directement au bar Berlin « Republik » (via leur site Internet ou par téléphone).
URL:https://www.ccfa-nantes.org/single-agenda/kneipen-quiz-2/
LOCATION:Berlin 1989\, 2 Place Abbé Pierre\, Nantes\, 44200\, France
ATTACH;FMTTYPE=image/png:https://www.ccfa-nantes.org/wp-content/uploads/2022/12/Kneipen-Quiz-Edition-Noel-insta-e1670230589520.png
END:VEVENT
BEGIN:VEVENT
DTSTART;TZID=Europe/Paris:20221214T203500
DTEND;TZID=Europe/Paris:20221214T223000
DTSTAMP:20260419T180516
CREATED:20221214T081347Z
LAST-MODIFIED:20221214T082917Z
UID:14804-1671050100-1671057000@www.ccfa-nantes.org
SUMMARY:Séance présentée du film CORSAGE de Marie Kreutzer
DESCRIPTION:Le 14 décembre 2022\,  le film de clôture du festival Univerciné allemand Corsage de Marie Kreutzer sort en salle. Pour l’occasion\, le Cinéma Katorza vous propose une projection précédée d’une présentation du film par Eske Ewen\, directrice du festival Univerciné allemand le mercredi 14 décembre à 20h35. \nLa séance est accessible pour les personnes à mobilité réduite.\nLes adhérent.e.s du CCFA bénéficient d’un tarif réduit de 7\,30 € sur présentation de leur carte d’adhérent !\nTrouverez ICI la grille des horaires pour les projections de Corsage à venir.\n \nAdresse : Cinéma Katorza\, 3 rue Corneille\, 44000 Nantes
URL:https://www.ccfa-nantes.org/single-agenda/seance-presentee-du-film-corsage-de-marie-kreutzer/
LOCATION:Cinema Katorza\, 3\, rue Corneille\, Nantes\, 44000\, France
ATTACH;FMTTYPE=image/png:https://www.ccfa-nantes.org/wp-content/uploads/2022/12/Corsage-post-insta-e1671005653642.png
END:VEVENT
END:VCALENDAR