BEGIN:VCALENDAR
VERSION:2.0
PRODID:-//CCFA Nantes - Centre culturel franco-allemand Nantes - ECPv6.15.20//NONSGML v1.0//EN
CALSCALE:GREGORIAN
METHOD:PUBLISH
X-ORIGINAL-URL:https://www.ccfa-nantes.org
X-WR-CALDESC:Évènements pour CCFA Nantes - Centre culturel franco-allemand Nantes
REFRESH-INTERVAL;VALUE=DURATION:PT1H
X-Robots-Tag:noindex
X-PUBLISHED-TTL:PT1H
BEGIN:VTIMEZONE
TZID:Europe/Paris
BEGIN:DAYLIGHT
TZOFFSETFROM:+0100
TZOFFSETTO:+0200
TZNAME:CEST
DTSTART:20220327T010000
END:DAYLIGHT
BEGIN:STANDARD
TZOFFSETFROM:+0200
TZOFFSETTO:+0100
TZNAME:CET
DTSTART:20221030T010000
END:STANDARD
BEGIN:DAYLIGHT
TZOFFSETFROM:+0100
TZOFFSETTO:+0200
TZNAME:CEST
DTSTART:20230326T010000
END:DAYLIGHT
BEGIN:STANDARD
TZOFFSETFROM:+0200
TZOFFSETTO:+0100
TZNAME:CET
DTSTART:20231029T010000
END:STANDARD
BEGIN:DAYLIGHT
TZOFFSETFROM:+0100
TZOFFSETTO:+0200
TZNAME:CEST
DTSTART:20240331T010000
END:DAYLIGHT
BEGIN:STANDARD
TZOFFSETFROM:+0200
TZOFFSETTO:+0100
TZNAME:CET
DTSTART:20241027T010000
END:STANDARD
END:VTIMEZONE
BEGIN:VEVENT
DTSTART;TZID=Europe/Paris:20230302T190000
DTEND;TZID=Europe/Paris:20230302T210000
DTSTAMP:20260419T231954
CREATED:20230206T102626Z
LAST-MODIFIED:20230206T102626Z
UID:15408-1677783600-1677790800@www.ccfa-nantes.org
SUMMARY:Stammtisch
DESCRIPTION:Vous souhaitez pratiquer l’allemand dans un cadre ludique et décontracté ? Venez au prochain Stammtisch du CCFA ! Peu importe votre niveau d’allemand – vous serez toutes et tous les bienvenu.es. \nVenez à notre rencontre et discuter avec nous ! \nJeudi 2 mars 2023\, 19h\, bar-librairie La Flibuste (6 allée Susan Brownell Anthony\, 44200 Nantes)
URL:https://www.ccfa-nantes.org/single-agenda/stammtisch-22/
LOCATION:La Flibuste\, 6 allée Susan Brownell Anthony\, Nantes\, 44200\, France
ATTACH;FMTTYPE=image/png:https://www.ccfa-nantes.org/wp-content/uploads/2023/02/STAMMTISCH-Publication-Instagram-Carre-e1675679152591.png
END:VEVENT
BEGIN:VEVENT
DTSTART;TZID=Europe/Paris:20230315T183000
DTEND;TZID=Europe/Paris:20230315T193000
DTSTAMP:20260419T231954
CREATED:20230210T103215Z
LAST-MODIFIED:20230210T103215Z
UID:15456-1678905000-1678908600@www.ccfa-nantes.org
SUMMARY:Permanence sur la mobilité vers l'Allemagne
DESCRIPTION:Mercredi 15 mars\, de 18h30 à 19h30\, en ligne. \nVous souhaitez faire une mobilité à l’étranger et découvrir l’Allemagne ? Gute Idee ! \nVous avez des questions sur le quotidien de notre pays voisin ? Il vous faudrait un coup de main pour la recherche d’un programme de soutien financier ? Vous souhaitez discuter avec une personne qui a déjà fait une mobilité internationale ? \nAlors inscrivez-vous à notre prochaine permanence sur la mobilité vers l’Allemagne en cliquant ICI.
URL:https://www.ccfa-nantes.org/single-agenda/permanence-sur-la-mobilite-vers-lallemagne-8/
ATTACH;FMTTYPE=image/png:https://www.ccfa-nantes.org/wp-content/uploads/2023/02/2022-12-09_Permanence_Insta-2-e1676024795374.png
END:VEVENT
BEGIN:VEVENT
DTSTART;VALUE=DATE:20230327
DTEND;VALUE=DATE:20230328
DTSTAMP:20260419T231954
CREATED:20230106T083006Z
LAST-MODIFIED:20230106T170329Z
UID:14869-1679875200-1679961599@www.ccfa-nantes.org
SUMMARY:Inscriptions Goethe-Zertifikat et Goethe-Test PRO
DESCRIPTION:Vous souhaitez obtenir un certificat de votre niveau d’allemand reconnu dans le monde entier ? \nInscrivez-vous à la prochaine session des examens Goethe-Test PRO et Goethe-Zertifikat avant le 27 mars 2023. Les examens auront lieu le 27 avril 2023 à Europa Nantes.\nPlus d’infos concernant les modalités et l’inscription ICI.\nDes questions ? Contactez-nous par mail : ccfa.goethe.zertifikat@gmail.com \nAdresse : Europa Nantes\,  90-92 Boulevard de la Prairie au Duc\, 44200 Nantes.
URL:https://www.ccfa-nantes.org/single-agenda/inscriptions-au-goethe-zertifikat/
LOCATION:Europa Nantes
ATTACH;FMTTYPE=image/png:https://www.ccfa-nantes.org/wp-content/uploads/2023/01/Goethe-post-insta-2-e1672993736963.png
END:VEVENT
END:VCALENDAR