BEGIN:VCALENDAR
VERSION:2.0
PRODID:-//CCFA Nantes - Centre culturel franco-allemand Nantes - ECPv6.15.20//NONSGML v1.0//EN
CALSCALE:GREGORIAN
METHOD:PUBLISH
X-ORIGINAL-URL:https://www.ccfa-nantes.org
X-WR-CALDESC:Évènements pour CCFA Nantes - Centre culturel franco-allemand Nantes
REFRESH-INTERVAL;VALUE=DURATION:PT1H
X-Robots-Tag:noindex
X-PUBLISHED-TTL:PT1H
BEGIN:VTIMEZONE
TZID:Europe/Paris
BEGIN:DAYLIGHT
TZOFFSETFROM:+0100
TZOFFSETTO:+0200
TZNAME:CEST
DTSTART:20220327T010000
END:DAYLIGHT
BEGIN:STANDARD
TZOFFSETFROM:+0200
TZOFFSETTO:+0100
TZNAME:CET
DTSTART:20221030T010000
END:STANDARD
BEGIN:DAYLIGHT
TZOFFSETFROM:+0100
TZOFFSETTO:+0200
TZNAME:CEST
DTSTART:20230326T010000
END:DAYLIGHT
BEGIN:STANDARD
TZOFFSETFROM:+0200
TZOFFSETTO:+0100
TZNAME:CET
DTSTART:20231029T010000
END:STANDARD
BEGIN:DAYLIGHT
TZOFFSETFROM:+0100
TZOFFSETTO:+0200
TZNAME:CEST
DTSTART:20240331T010000
END:DAYLIGHT
BEGIN:STANDARD
TZOFFSETFROM:+0200
TZOFFSETTO:+0100
TZNAME:CET
DTSTART:20241027T010000
END:STANDARD
END:VTIMEZONE
BEGIN:VEVENT
DTSTART;TZID=Europe/Paris:20230401T160000
DTEND;TZID=Europe/Paris:20230401T180000
DTSTAMP:20260420T023143
CREATED:20230222T144120Z
LAST-MODIFIED:20230307T111802Z
UID:15508-1680364800-1680372000@www.ccfa-nantes.org
SUMMARY:Kindernachmittag
DESCRIPTION:Samedi 1 er avril 2023\, de 16h à 18h\, Maison des associations de Saint Joseph\, salle A\, 478 Route de Saint Joseph\, 44300 Nantes. \nLe CCFA et la Crèche franco-allemande Hänsel & Gretel organisent leur prochain « Kindernachmittag » ! Au programme\, peindre des oeuf et confectionner des objets à l’occasion de Pâques. \nInscription ICI. 
URL:https://www.ccfa-nantes.org/single-agenda/kindernachmittag-18/
LOCATION:Maison des Associations\, 478 Route de Saint Joseph\, Nantes
ATTACH;FMTTYPE=image/png:https://www.ccfa-nantes.org/wp-content/uploads/2023/02/Kindernachmittag-01042023-e1677754390714.png
END:VEVENT
BEGIN:VEVENT
DTSTART;TZID=Europe/Paris:20230405T203000
DTEND;TZID=Europe/Paris:20230405T233000
DTSTAMP:20260420T023143
CREATED:20230331T122723Z
LAST-MODIFIED:20230403T123832Z
UID:15741-1680726600-1680737400@www.ccfa-nantes.org
SUMMARY:Poetry Slam : Soirée au Bras de Fer
DESCRIPTION:Mercredi 5 avril 2023\, 20h30-23h30\, Bar le Bras de Fer\, 20 Bd de la Prairie au Duc\, 44200 Nantes. \nPendant une semaine\, le CCFA accueille deux slameuses professionnelles du Schelswig Holstein\, région partenaire des Pays de la Loire : Selina Seemann et Shafia Khawaja. Elles participent à la soirée Scène Slam organisée par le collectif Poetry Slam nantais Lapins à Plumes au Bras de fer. \nEntrée libre et gratuite\, plus d’infos ICI et ICI.
URL:https://www.ccfa-nantes.org/single-agenda/poetry-slam-2/
LOCATION:Bras de Fer\, 20 Bd de la Prairie au Duc\, Nantes\, 44200
ATTACH;FMTTYPE=image/png:https://www.ccfa-nantes.org/wp-content/uploads/2023/03/Poetry-Slam--e1680265547304.png
END:VEVENT
BEGIN:VEVENT
DTSTART;TZID=Europe/Paris:20230412T183000
DTEND;TZID=Europe/Paris:20230412T200000
DTSTAMP:20260420T023143
CREATED:20230403T072844Z
LAST-MODIFIED:20230403T130543Z
UID:15760-1681324200-1681329600@www.ccfa-nantes.org
SUMMARY:Soirée théâtre franco-allemande
DESCRIPTION:Mercredi 12 avril 2023\, 18h30\, Lycée Nelson Mandela\, salle 201\, 10 Rue Pierre Vidal-Naquet\, 44265 Nantes\n\nDans le cadre d’un atelier de co-création théâtrale en langue allemande animé par Karsten Forbrig (CCFA) et Émilie Barbier\, les élèves de la section AbiBac du Lycée Nelson Mandela ont exploré le roman d’Olivia Wenzel 1000 Serpentinen Angst et proposent lors de cette restitution d’atelier une adaptation théâtrale « condensée ». \nEntrée libre et gratuite.
URL:https://www.ccfa-nantes.org/single-agenda/soiree-theatre-franco-allemande/
LOCATION:Lycée Nelson Mandela\, 10 Rue Pierre Vidal-Naquet\, Nantes\, 44265\, France
ATTACH;FMTTYPE=image/png:https://www.ccfa-nantes.org/wp-content/uploads/2023/04/Soiree-theatre-Publication-Instagram-Carre-e1680506782204.png
END:VEVENT
BEGIN:VEVENT
DTSTART;TZID=Europe/Paris:20230413T190000
DTEND;TZID=Europe/Paris:20230413T213000
DTSTAMP:20260420T023143
CREATED:20230307T132146Z
LAST-MODIFIED:20230307T132146Z
UID:15592-1681412400-1681421400@www.ccfa-nantes.org
SUMMARY:Stammtisch
DESCRIPTION:Vous souhaitez pratiquer l’allemand dans un cadre ludique et décontracté ? Venez au prochain Stammtisch du CCFA ! Peu importe votre niveau d’allemand – vous serez toutes et tous les bienvenu.es. \nVenez à notre rencontre et discuter avec nous ! \nJeudi 13 avril 2023\, 19h\, bar-librairie La Flibuste (6 allée Susan Brownell Anthony\, 44200 Nantes)
URL:https://www.ccfa-nantes.org/single-agenda/stammtisch-23/
LOCATION:La Flibuste\, 6 allée Susan Brownell Anthony\, Nantes\, 44200\, France
ATTACH;FMTTYPE=image/png:https://www.ccfa-nantes.org/wp-content/uploads/2023/03/STAMMTISCH-Publication-Instagram-Carre-2-e1678195281832.png
END:VEVENT
BEGIN:VEVENT
DTSTART;TZID=Europe/Paris:20230417T100000
DTEND;TZID=Europe/Paris:20230420T170000
DTSTAMP:20260420T023143
CREATED:20230307T105251Z
LAST-MODIFIED:20230522T122049Z
UID:15584-1681725600-1682010000@www.ccfa-nantes.org
SUMMARY:ANNULÉ - Stages intensifs d'allemand
DESCRIPTION:Malheureusement\, nous devons annuler les deux stages en avril\, car nous n’avons pas eu assez de personnes inscrites. Suivez nos activités pour en savoir plus sur la nouvelle date des stages intensifs ! Bis bald! \nDu lundi 17 au jeudi 20 avril 2023\, à Europa Nantes\, 90-92 Bd de la Prairie au Duc\, 44200 Nantes. \nDe 10h à 12h30 à Europa Nantes : Stage intensif (A1-B2) avec Sophie Kuhn\nPour des personnes à partir de 10 ans \nDe 14h à 17h à Europa Nantes : Stage de théâtre en allemand (A1-B2/C1) avec Olivia van Riesen\nPour des personnes à partir de 10 ans. \nIl est possible de combiner les deux stages !\nL’inscription se fait sur HelloAsso jusqu’au 3 avril inclus. Les stages n’auront lieu si le minimum de 6 participant.es est atteint !\nPlus d’infos ICI.
URL:https://www.ccfa-nantes.org/single-agenda/stages-intensifs-dallemand/
LOCATION:Europa Nantes
ATTACH;FMTTYPE=image/png:https://www.ccfa-nantes.org/wp-content/uploads/2023/03/Stage-insta-1-e1684758033345.png
END:VEVENT
BEGIN:VEVENT
DTSTART;TZID=Europe/Paris:20230419T203000
DTEND;TZID=Europe/Paris:20230419T220000
DTSTAMP:20260420T023143
CREATED:20230418T143736Z
LAST-MODIFIED:20230418T144003Z
UID:15902-1681936200-1681941600@www.ccfa-nantes.org
SUMMARY:Présentation du film « Die Wannseekonferenz »
DESCRIPTION:Mercredi 19 avril 2023\, à 20h30\, au cinéma Katorza\, 3 rue Corneille\, 44000 Nantes \nLe mercredi 19 avril\, un film projeté en avant première au festival Univerciné allemand 2022 « La Conférence » / « Die Wannseekonferenz » de Matti Geschonneck sort en salle.\nPour l’occasion\, le cinéma Katorza vous propose une projection précédée d’une présentation du film par Eske Ewen\, directrice du festival Univerciné allemand.
URL:https://www.ccfa-nantes.org/single-agenda/presentation-du-film-die-wannseekonferenz/
LOCATION:Cinema Katorza\, 3\, rue Corneille\, Nantes\, 44000\, France
END:VEVENT
BEGIN:VEVENT
DTSTART;VALUE=DATE:20230427
DTEND;VALUE=DATE:20230428
DTSTAMP:20260420T023143
CREATED:20230106T083254Z
LAST-MODIFIED:20230222T093916Z
UID:14873-1682553600-1682639999@www.ccfa-nantes.org
SUMMARY:Passation de la certification d'allemand "Goethe"
DESCRIPTION:Vous souhaitez obtenir un certificat de votre niveau d’allemand reconnu dans le monde entier ? Inscrivez-vous à la prochaine session des examens Goethe-Test PRO et Goethe-Zertifikat avant le 27 mars 2023. Les examens auront lieu le 27 avril 2023 à Europa Nantes\, 90 Boulevard de la Prairie au Duc\, 44200 Nantes.\nPlus d’infos concernant les modalités et l’inscription ICI.  \nPour toute question\, adressez vous à ccfa.goethe.zertifiikat@gmail.com
URL:https://www.ccfa-nantes.org/single-agenda/passation-de-la-certification-dallemand-goethe/
LOCATION:Europa Nantes
ATTACH;FMTTYPE=image/png:https://www.ccfa-nantes.org/wp-content/uploads/2023/01/Goethe-post-insta-2-e1672993736963.png
END:VEVENT
END:VCALENDAR